BEGIN:VCALENDAR
VERSION:2.0
PRODID:-//wp-events-plugin.com-MN//7.2.3.1//EN
REFRESH-INTERVAL;VALUE=DURATION:PT1H
TZID:Europe/Brussels
X-WR-TIMEZONE:Europe/Brussels
BEGIN:VEVENT
UID:304@beth-hillel.org
DTSTART;TZID=Europe/Brussels:20250614T103000
DTEND;TZID=Europe/Brussels:20250614T123000
DTSTAMP:20250610T162513Z
URL:https://www.beth-hillel.org/events/1083-2025-06-14/
SUMMARY:Chaẖarit Chabbat\, avec l'étudiant rabbin Mati L. Boulakia-Bortn
 ick
DESCRIPTION:Ce Chabbat\, nous acceuillerons  l'étudiant rabbin Mati L. Bou
 lakia-Bortnick.
ATTACH;FMTTYPE=image/jpeg:https://www.beth-hillel.org/wp-content/uploads/2
 024/06/Lawrie-Cate-license-CC-BY-sefer-torah-min-1-e1721164791148.jpg
CATEGORIES:Chabbat,Office
END:VEVENT
BEGIN:VTIMEZONE
TZID:Europe/Brussels
X-LIC-LOCATION:Europe/Brussels
BEGIN:DAYLIGHT
DTSTART:20250330T030000
TZOFFSETFROM:+0100
TZOFFSETTO:+0200
TZNAME:CEST
END:DAYLIGHT
END:VTIMEZONE
END:VCALENDAR