BEGIN:VCALENDAR
VERSION:2.0
PRODID:-//wp-events-plugin.com-MN//7.2.3.1//EN
REFRESH-INTERVAL;VALUE=DURATION:PT1H
TZID:Europe/Brussels
X-WR-TIMEZONE:Europe/Brussels
BEGIN:VEVENT
UID:2097@beth-hillel.org
DTSTART;TZID=Europe/Brussels:20260622T200000
DTEND;TZID=Europe/Brussels:20260622T223000
DTSTAMP:20260420T162720Z
URL:https://www.beth-hillel.org/events/atelier-tenoua-par-le-rabbin-horvil
 leur-3/
SUMMARY:Atelier Tenoua par le Rabbin Horvilleur
DESCRIPTION:Réservez vos places pour le dernier Atelier Tenoua de la saiso
 n
ATTACH;FMTTYPE=image/jpeg:https://www.beth-hillel.org/wp-content/uploads/2
 024/06/LOGO_atelier_tenoua_BRUXELLES_ROUGE-3-2.png
CATEGORIES:Conférences,Culture
END:VEVENT
BEGIN:VTIMEZONE
TZID:Europe/Brussels
X-LIC-LOCATION:Europe/Brussels
BEGIN:DAYLIGHT
DTSTART:20260329T030000
TZOFFSETFROM:+0100
TZOFFSETTO:+0200
TZNAME:CEST
END:DAYLIGHT
END:VTIMEZONE
END:VCALENDAR