BEGIN:VCALENDAR
VERSION:2.0
PRODID:-//wp-events-plugin.com-MN//7.2.3.1//EN
REFRESH-INTERVAL;VALUE=DURATION:PT1H
TZID:Europe/Brussels
X-WR-TIMEZONE:Europe/Brussels
BEGIN:VEVENT
UID:836@beth-hillel.org
DTSTART;TZID=Europe/Brussels:20250310T200000
DTEND;TZID=Europe/Brussels:20250310T223000
DTSTAMP:20250310T195633Z
URL:https://www.beth-hillel.org/events/atelier-tenoua-par-le-rabbin-horvil
 leur/
SUMMARY:Atelier Tenoua par le Rabbin Horvilleur
DESCRIPTION:"Esther - Existe-t-il un pouvoir féminin ?". Le Rabbin Delphin
 e Horvilleur viendra animer l'Atelier Tenoua Bruxelles le lundi 10 mars à
  Beth Hillel\, ne tardez pas à vous inscrire !
ATTACH;FMTTYPE=image/jpeg:https://www.beth-hillel.org/wp-content/uploads/2
 024/06/LOGO_atelier_tenoua_BRUXELLES_ROUGE-3-2.png
CATEGORIES:Conférences,Culture
END:VEVENT
BEGIN:VTIMEZONE
TZID:Europe/Brussels
X-LIC-LOCATION:Europe/Brussels
BEGIN:STANDARD
DTSTART:20241027T020000
TZOFFSETFROM:+0200
TZOFFSETTO:+0100
TZNAME:CET
END:STANDARD
END:VTIMEZONE
END:VCALENDAR