BEGIN:VCALENDAR
VERSION:2.0
PRODID:-//wp-events-plugin.com-MN//7.2.3.1//EN
REFRESH-INTERVAL;VALUE=DURATION:PT1H
TZID:Europe/Brussels
X-WR-TIMEZONE:Europe/Brussels
BEGIN:VEVENT
UID:545@beth-hillel.org
DTSTART;TZID=Europe/Brussels:20240904T190000
DTEND;TZID=Europe/Brussels:20240904T203000
DTSTAMP:20240929T161656Z
URL:https://www.beth-hillel.org/events/ca-sonne-2024-09-04/
SUMMARY:Ça Sonne
DESCRIPTION:שָׂשׂוֹן\nGroupe vocal de Beth Hillel\nVous aimez chant
 er\, mais les vocalises sous la douche ne vous donnent plus entière satis
 faction ?\nVous aimeriez retrouver les mélodies de votre enfance ?\nDéco
 uvrir des airs plus pop et des chansons traditionnelles ?\n\nSous la dire
 ction et l’animation de notre Professeure Fanette (Elise Cazaban).\nRejo
 ignez 1 fois par mois le groupe vocal de Beth Hillel\nLe mercredi (en gén
 éral) soir à 19h00\n\nPour obtenir plus d'informations : cliquez-ici\n\n
 &nbsp\;\n[event event=784]#_BOOKINGFORM[/event]
ATTACH;FMTTYPE=image/jpeg:https://www.beth-hillel.org/wp-content/uploads/2
 024/06/1901198c16e9a2c6-2-elise-fanette-def-sansrecadrage-hd-6-scaled.jpg
CATEGORIES:Ça Sonne
END:VEVENT
BEGIN:VEVENT
UID:546@beth-hillel.org
DTSTART;TZID=Europe/Brussels:20241009T190000
DTEND;TZID=Europe/Brussels:20241009T203000
DTSTAMP:20250225T003842Z
URL:https://www.beth-hillel.org/events/ca-sonne-2024-10-09/
SUMMARY:Ça Sonne
DESCRIPTION:שָׂשׂוֹן\nGroupe vocal de Beth Hillel\nVous aimez chant
 er\, mais les vocalises sous la douche ne vous donnent plus entière satis
 faction ?\nVous aimeriez retrouver les mélodies de votre enfance ?\nDéco
 uvrir des airs plus pop et des chansons traditionnelles ?\n\nSous la dire
 ction et l’animation de notre Professeure Fanette (Elise Cazaban).\nRejo
 ignez 1 fois par mois le groupe vocal de Beth Hillel\nLe mercredi (en gén
 éral) soir à 19h00\n\nPour obtenir plus d'informations : cliquez-ici\n\n
 &nbsp\;\n[event event=784]#_BOOKINGFORM[/event]
ATTACH;FMTTYPE=image/jpeg:https://www.beth-hillel.org/wp-content/uploads/2
 025/02/DSC_0533-1-scaled-e1740443486468.jpg
CATEGORIES:Ça Sonne
END:VEVENT
BEGIN:VEVENT
UID:547@beth-hillel.org
DTSTART;TZID=Europe/Brussels:20241107T190000
DTEND;TZID=Europe/Brussels:20241107T203000
DTSTAMP:20250225T003842Z
URL:https://www.beth-hillel.org/events/ca-sonne-2024-11-07/
SUMMARY:Ça Sonne
DESCRIPTION:שָׂשׂוֹן\nGroupe vocal de Beth Hillel\nVous aimez chant
 er\, mais les vocalises sous la douche ne vous donnent plus entière satis
 faction ?\nVous aimeriez retrouver les mélodies de votre enfance ?\nDéco
 uvrir des airs plus pop et des chansons traditionnelles ?\n\nSous la dire
 ction et l’animation de notre Professeure Fanette (Elise Cazaban).\nRejo
 ignez 1 fois par mois le groupe vocal de Beth Hillel\nLe mercredi (en gén
 éral) soir à 19h00\n\nPour obtenir plus d'informations : cliquez-ici\n\n
 &nbsp\;\n[event event=784]#_BOOKINGFORM[/event]
ATTACH;FMTTYPE=image/jpeg:https://www.beth-hillel.org/wp-content/uploads/2
 025/02/DSC_0533-1-scaled-e1740443486468.jpg
CATEGORIES:Ça Sonne
END:VEVENT
BEGIN:VEVENT
UID:548@beth-hillel.org
DTSTART;TZID=Europe/Brussels:20241204T190000
DTEND;TZID=Europe/Brussels:20241204T203000
DTSTAMP:20250225T003842Z
URL:https://www.beth-hillel.org/events/ca-sonne-2024-12-04/
SUMMARY:Ça Sonne
DESCRIPTION:שָׂשׂוֹן\nGroupe vocal de Beth Hillel\nVous aimez chant
 er\, mais les vocalises sous la douche ne vous donnent plus entière satis
 faction ?\nVous aimeriez retrouver les mélodies de votre enfance ?\nDéco
 uvrir des airs plus pop et des chansons traditionnelles ?\n\nSous la dire
 ction et l’animation de notre Professeure Fanette (Elise Cazaban).\nRejo
 ignez 1 fois par mois le groupe vocal de Beth Hillel\nLe mercredi (en gén
 éral) soir à 19h00\n\nPour obtenir plus d'informations : cliquez-ici\n\n
 &nbsp\;\n[event event=784]#_BOOKINGFORM[/event]
ATTACH;FMTTYPE=image/jpeg:https://www.beth-hillel.org/wp-content/uploads/2
 025/02/DSC_0533-1-scaled-e1740443486468.jpg
CATEGORIES:Ça Sonne
END:VEVENT
BEGIN:VEVENT
UID:549@beth-hillel.org
DTSTART;TZID=Europe/Brussels:20250108T190000
DTEND;TZID=Europe/Brussels:20250108T203000
DTSTAMP:20250225T003842Z
URL:https://www.beth-hillel.org/events/ca-sonne-2025-01-08/
SUMMARY:Ça Sonne
DESCRIPTION:שָׂשׂוֹן\nGroupe vocal de Beth Hillel\nVous aimez chant
 er\, mais les vocalises sous la douche ne vous donnent plus entière satis
 faction ?\nVous aimeriez retrouver les mélodies de votre enfance ?\nDéco
 uvrir des airs plus pop et des chansons traditionnelles ?\n\nSous la dire
 ction et l’animation de notre Professeure Fanette (Elise Cazaban).\nRejo
 ignez 1 fois par mois le groupe vocal de Beth Hillel\nLe mercredi (en gén
 éral) soir à 19h00\n\nPour obtenir plus d'informations : cliquez-ici\n\n
 &nbsp\;\n[event event=784]#_BOOKINGFORM[/event]
ATTACH;FMTTYPE=image/jpeg:https://www.beth-hillel.org/wp-content/uploads/2
 025/02/DSC_0533-1-scaled-e1740443486468.jpg
CATEGORIES:Ça Sonne
END:VEVENT
BEGIN:VEVENT
UID:550@beth-hillel.org
DTSTART;TZID=Europe/Brussels:20250205T190000
DTEND;TZID=Europe/Brussels:20250205T203000
DTSTAMP:20250225T003842Z
URL:https://www.beth-hillel.org/events/ca-sonne-2025-02-05/
SUMMARY:Ça Sonne
DESCRIPTION:שָׂשׂוֹן\nGroupe vocal de Beth Hillel\nVous aimez chant
 er\, mais les vocalises sous la douche ne vous donnent plus entière satis
 faction ?\nVous aimeriez retrouver les mélodies de votre enfance ?\nDéco
 uvrir des airs plus pop et des chansons traditionnelles ?\n\nSous la dire
 ction et l’animation de notre Professeure Fanette (Elise Cazaban).\nRejo
 ignez 1 fois par mois le groupe vocal de Beth Hillel\nLe mercredi (en gén
 éral) soir à 19h00\n\nPour obtenir plus d'informations : cliquez-ici\n\n
 &nbsp\;\n[event event=784]#_BOOKINGFORM[/event]
ATTACH;FMTTYPE=image/jpeg:https://www.beth-hillel.org/wp-content/uploads/2
 025/02/DSC_0533-1-scaled-e1740443486468.jpg
CATEGORIES:Ça Sonne
END:VEVENT
BEGIN:VEVENT
UID:551@beth-hillel.org
DTSTART;TZID=Europe/Brussels:20250312T190000
DTEND;TZID=Europe/Brussels:20250312T203000
DTSTAMP:20250225T003842Z
URL:https://www.beth-hillel.org/events/ca-sonne-2025-03-12/
SUMMARY:Ça Sonne
DESCRIPTION:שָׂשׂוֹן\nGroupe vocal de Beth Hillel\nVous aimez chant
 er\, mais les vocalises sous la douche ne vous donnent plus entière satis
 faction ?\nVous aimeriez retrouver les mélodies de votre enfance ?\nDéco
 uvrir des airs plus pop et des chansons traditionnelles ?\n\nSous la dire
 ction et l’animation de notre Professeure Fanette (Elise Cazaban).\nRejo
 ignez 1 fois par mois le groupe vocal de Beth Hillel\nLe mercredi (en gén
 éral) soir à 19h00\n\nPour obtenir plus d'informations : cliquez-ici\n\n
 &nbsp\;\n[event event=784]#_BOOKINGFORM[/event]
ATTACH;FMTTYPE=image/jpeg:https://www.beth-hillel.org/wp-content/uploads/2
 025/02/DSC_0533-1-scaled-e1740443486468.jpg
CATEGORIES:Ça Sonne
END:VEVENT
BEGIN:VEVENT
UID:552@beth-hillel.org
DTSTART;TZID=Europe/Brussels:20250402T190000
DTEND;TZID=Europe/Brussels:20250402T203000
DTSTAMP:20250225T003842Z
URL:https://www.beth-hillel.org/events/ca-sonne-2025-04-02/
SUMMARY:Ça Sonne
DESCRIPTION:שָׂשׂוֹן\nGroupe vocal de Beth Hillel\nVous aimez chant
 er\, mais les vocalises sous la douche ne vous donnent plus entière satis
 faction ?\nVous aimeriez retrouver les mélodies de votre enfance ?\nDéco
 uvrir des airs plus pop et des chansons traditionnelles ?\n\nSous la dire
 ction et l’animation de notre Professeure Fanette (Elise Cazaban).\nRejo
 ignez 1 fois par mois le groupe vocal de Beth Hillel\nLe mercredi (en gén
 éral) soir à 19h00\n\nPour obtenir plus d'informations : cliquez-ici\n\n
 &nbsp\;\n[event event=784]#_BOOKINGFORM[/event]
ATTACH;FMTTYPE=image/jpeg:https://www.beth-hillel.org/wp-content/uploads/2
 025/02/DSC_0533-1-scaled-e1740443486468.jpg
CATEGORIES:Ça Sonne
END:VEVENT
BEGIN:VEVENT
UID:553@beth-hillel.org
DTSTART;TZID=Europe/Brussels:20250514T190000
DTEND;TZID=Europe/Brussels:20250514T203000
DTSTAMP:20250225T003842Z
URL:https://www.beth-hillel.org/events/ca-sonne-2025-05-14/
SUMMARY:Ça Sonne
DESCRIPTION:שָׂשׂוֹן\nGroupe vocal de Beth Hillel\nVous aimez chant
 er\, mais les vocalises sous la douche ne vous donnent plus entière satis
 faction ?\nVous aimeriez retrouver les mélodies de votre enfance ?\nDéco
 uvrir des airs plus pop et des chansons traditionnelles ?\n\nSous la dire
 ction et l’animation de notre Professeure Fanette (Elise Cazaban).\nRejo
 ignez 1 fois par mois le groupe vocal de Beth Hillel\nLe mercredi (en gén
 éral) soir à 19h00\n\nPour obtenir plus d'informations : cliquez-ici\n\n
 &nbsp\;\n[event event=784]#_BOOKINGFORM[/event]
ATTACH;FMTTYPE=image/jpeg:https://www.beth-hillel.org/wp-content/uploads/2
 025/02/DSC_0533-1-scaled-e1740443486468.jpg
CATEGORIES:Ça Sonne
END:VEVENT
BEGIN:VEVENT
UID:554@beth-hillel.org
DTSTART;TZID=Europe/Brussels:20250604T190000
DTEND;TZID=Europe/Brussels:20250604T203000
DTSTAMP:20250225T003842Z
URL:https://www.beth-hillel.org/events/ca-sonne-2025-06-04/
SUMMARY:Ça Sonne
DESCRIPTION:שָׂשׂוֹן\nGroupe vocal de Beth Hillel\nVous aimez chant
 er\, mais les vocalises sous la douche ne vous donnent plus entière satis
 faction ?\nVous aimeriez retrouver les mélodies de votre enfance ?\nDéco
 uvrir des airs plus pop et des chansons traditionnelles ?\n\nSous la dire
 ction et l’animation de notre Professeure Fanette (Elise Cazaban).\nRejo
 ignez 1 fois par mois le groupe vocal de Beth Hillel\nLe mercredi (en gén
 éral) soir à 19h00\n\nPour obtenir plus d'informations : cliquez-ici\n\n
 &nbsp\;\n[event event=784]#_BOOKINGFORM[/event]
ATTACH;FMTTYPE=image/jpeg:https://www.beth-hillel.org/wp-content/uploads/2
 025/02/DSC_0533-1-scaled-e1740443486468.jpg
CATEGORIES:Ça Sonne
END:VEVENT
BEGIN:VEVENT
UID:1553@beth-hillel.org
DTSTART;TZID=Europe/Brussels:20251008T190000
DTEND;TZID=Europe/Brussels:20251008T203000
DTSTAMP:20250902T131532Z
URL:https://www.beth-hillel.org/events/ca-sonne-5786-2025-10-08/
SUMMARY:Ça Sonne !
DESCRIPTION:שָׂשׂוֹן\nGroupe vocal de Beth Hillel\nVous aimez chant
 er\, mais les vocalises sous la douche ne vous donnent plus entière satis
 faction ?\nVous aimeriez retrouver les mélodies de votre enfance ?\nDéco
 uvrir des airs plus pop et des chansons traditionnelles ?\n\nSous la dire
 ction et l’animation de notre Professeure Fanette (Elise Cazaban).\nRejo
 ignez 2 fois par mois le groupe vocal de Beth Hillel\nLe mercredi (en gén
 éral) à 19h00\n\nPour obtenir plus d'informations : cliquez-ici\n\n&nbsp
 \;\n[event event=1379]#_BOOKINGFORM[/event]
ATTACH;FMTTYPE=image/jpeg:https://www.beth-hillel.org/wp-content/uploads/2
 025/02/DSC_0533-1-scaled-e1740443486468.jpg
CATEGORIES:Activités,Ça Sonne
END:VEVENT
BEGIN:VEVENT
UID:1555@beth-hillel.org
DTSTART;TZID=Europe/Brussels:20251022T190000
DTEND;TZID=Europe/Brussels:20251022T203000
DTSTAMP:20250902T131532Z
URL:https://www.beth-hillel.org/events/ca-sonne-5786-2025-10-22/
SUMMARY:Ça Sonne !
DESCRIPTION:שָׂשׂוֹן\nGroupe vocal de Beth Hillel\nVous aimez chant
 er\, mais les vocalises sous la douche ne vous donnent plus entière satis
 faction ?\nVous aimeriez retrouver les mélodies de votre enfance ?\nDéco
 uvrir des airs plus pop et des chansons traditionnelles ?\n\nSous la dire
 ction et l’animation de notre Professeure Fanette (Elise Cazaban).\nRejo
 ignez 2 fois par mois le groupe vocal de Beth Hillel\nLe mercredi (en gén
 éral) à 19h00\n\nPour obtenir plus d'informations : cliquez-ici\n\n&nbsp
 \;\n[event event=1379]#_BOOKINGFORM[/event]
ATTACH;FMTTYPE=image/jpeg:https://www.beth-hillel.org/wp-content/uploads/2
 025/02/DSC_0533-1-scaled-e1740443486468.jpg
CATEGORIES:Activités,Ça Sonne
END:VEVENT
BEGIN:VEVENT
UID:1557@beth-hillel.org
DTSTART;TZID=Europe/Brussels:20251105T190000
DTEND;TZID=Europe/Brussels:20251105T203000
DTSTAMP:20250902T131532Z
URL:https://www.beth-hillel.org/events/ca-sonne-5786-2025-11-05/
SUMMARY:Ça Sonne !
DESCRIPTION:שָׂשׂוֹן\nGroupe vocal de Beth Hillel\nVous aimez chant
 er\, mais les vocalises sous la douche ne vous donnent plus entière satis
 faction ?\nVous aimeriez retrouver les mélodies de votre enfance ?\nDéco
 uvrir des airs plus pop et des chansons traditionnelles ?\n\nSous la dire
 ction et l’animation de notre Professeure Fanette (Elise Cazaban).\nRejo
 ignez 2 fois par mois le groupe vocal de Beth Hillel\nLe mercredi (en gén
 éral) à 19h00\n\nPour obtenir plus d'informations : cliquez-ici\n\n&nbsp
 \;\n[event event=1379]#_BOOKINGFORM[/event]
ATTACH;FMTTYPE=image/jpeg:https://www.beth-hillel.org/wp-content/uploads/2
 025/02/DSC_0533-1-scaled-e1740443486468.jpg
CATEGORIES:Activités,Ça Sonne
END:VEVENT
BEGIN:VEVENT
UID:1559@beth-hillel.org
DTSTART;TZID=Europe/Brussels:20251119T190000
DTEND;TZID=Europe/Brussels:20251119T203000
DTSTAMP:20250902T131532Z
URL:https://www.beth-hillel.org/events/ca-sonne-5786-2025-11-19/
SUMMARY:Ça Sonne !
DESCRIPTION:שָׂשׂוֹן\nGroupe vocal de Beth Hillel\nVous aimez chant
 er\, mais les vocalises sous la douche ne vous donnent plus entière satis
 faction ?\nVous aimeriez retrouver les mélodies de votre enfance ?\nDéco
 uvrir des airs plus pop et des chansons traditionnelles ?\n\nSous la dire
 ction et l’animation de notre Professeure Fanette (Elise Cazaban).\nRejo
 ignez 2 fois par mois le groupe vocal de Beth Hillel\nLe mercredi (en gén
 éral) à 19h00\n\nPour obtenir plus d'informations : cliquez-ici\n\n&nbsp
 \;\n[event event=1379]#_BOOKINGFORM[/event]
ATTACH;FMTTYPE=image/jpeg:https://www.beth-hillel.org/wp-content/uploads/2
 025/02/DSC_0533-1-scaled-e1740443486468.jpg
CATEGORIES:Activités,Ça Sonne
END:VEVENT
BEGIN:VEVENT
UID:1561@beth-hillel.org
DTSTART;TZID=Europe/Brussels:20251203T190000
DTEND;TZID=Europe/Brussels:20251203T203000
DTSTAMP:20250902T131532Z
URL:https://www.beth-hillel.org/events/ca-sonne-5786-2025-12-03/
SUMMARY:Ça Sonne !
DESCRIPTION:שָׂשׂוֹן\nGroupe vocal de Beth Hillel\nVous aimez chant
 er\, mais les vocalises sous la douche ne vous donnent plus entière satis
 faction ?\nVous aimeriez retrouver les mélodies de votre enfance ?\nDéco
 uvrir des airs plus pop et des chansons traditionnelles ?\n\nSous la dire
 ction et l’animation de notre Professeure Fanette (Elise Cazaban).\nRejo
 ignez 2 fois par mois le groupe vocal de Beth Hillel\nLe mercredi (en gén
 éral) à 19h00\n\nPour obtenir plus d'informations : cliquez-ici\n\n&nbsp
 \;\n[event event=1379]#_BOOKINGFORM[/event]
ATTACH;FMTTYPE=image/jpeg:https://www.beth-hillel.org/wp-content/uploads/2
 025/02/DSC_0533-1-scaled-e1740443486468.jpg
CATEGORIES:Activités,Ça Sonne
END:VEVENT
BEGIN:VEVENT
UID:1563@beth-hillel.org
DTSTART;TZID=Europe/Brussels:20251217T190000
DTEND;TZID=Europe/Brussels:20251217T203000
DTSTAMP:20251201T124351Z
URL:https://www.beth-hillel.org/events/ca-sonne-5786-2025-12-17/
SUMMARY:Ça Sonne !
DESCRIPTION:שָׂשׂוֹן\nGroupe vocal de Beth Hillel\nVous aimez chant
 er\, mais les vocalises sous la douche ne vous donnent plus entière satis
 faction ?\nVous aimeriez retrouver les mélodies de votre enfance ?\nDéco
 uvrir des airs plus pop et des chansons traditionnelles ?\n\nSous la dire
 ction et l’animation de notre Professeure Fanette (Elise Cazaban).\nRejo
 ignez 2 fois par mois le groupe vocal de Beth Hillel\nLe mercredi (en gén
 éral) à 19h00\n\nPour obtenir plus d'informations : cliquez-ici\n\n&nbsp
 \;\n[event event=1379]#_BOOKINGFORM[/event]
ATTACH;FMTTYPE=image/jpeg:https://www.beth-hillel.org/wp-content/uploads/2
 025/02/DSC_0533-1-scaled-e1740443486468.jpg
CATEGORIES:Activités,Ça Sonne,H̱anoukkah
END:VEVENT
BEGIN:VEVENT
UID:1567@beth-hillel.org
DTSTART;TZID=Europe/Brussels:20260114T190000
DTEND;TZID=Europe/Brussels:20260114T203000
DTSTAMP:20250902T131532Z
URL:https://www.beth-hillel.org/events/ca-sonne-5786-2026-01-14/
SUMMARY:Ça Sonne !
DESCRIPTION:שָׂשׂוֹן\nGroupe vocal de Beth Hillel\nVous aimez chant
 er\, mais les vocalises sous la douche ne vous donnent plus entière satis
 faction ?\nVous aimeriez retrouver les mélodies de votre enfance ?\nDéco
 uvrir des airs plus pop et des chansons traditionnelles ?\n\nSous la dire
 ction et l’animation de notre Professeure Fanette (Elise Cazaban).\nRejo
 ignez 2 fois par mois le groupe vocal de Beth Hillel\nLe mercredi (en gén
 éral) à 19h00\n\nPour obtenir plus d'informations : cliquez-ici\n\n&nbsp
 \;\n[event event=1379]#_BOOKINGFORM[/event]
ATTACH;FMTTYPE=image/jpeg:https://www.beth-hillel.org/wp-content/uploads/2
 025/02/DSC_0533-1-scaled-e1740443486468.jpg
CATEGORIES:Activités,Ça Sonne
END:VEVENT
BEGIN:VEVENT
UID:1569@beth-hillel.org
DTSTART;TZID=Europe/Brussels:20260128T190000
DTEND;TZID=Europe/Brussels:20260128T203000
DTSTAMP:20250902T131532Z
URL:https://www.beth-hillel.org/events/ca-sonne-5786-2026-01-28/
SUMMARY:Ça Sonne !
DESCRIPTION:שָׂשׂוֹן\nGroupe vocal de Beth Hillel\nVous aimez chant
 er\, mais les vocalises sous la douche ne vous donnent plus entière satis
 faction ?\nVous aimeriez retrouver les mélodies de votre enfance ?\nDéco
 uvrir des airs plus pop et des chansons traditionnelles ?\n\nSous la dire
 ction et l’animation de notre Professeure Fanette (Elise Cazaban).\nRejo
 ignez 2 fois par mois le groupe vocal de Beth Hillel\nLe mercredi (en gén
 éral) à 19h00\n\nPour obtenir plus d'informations : cliquez-ici\n\n&nbsp
 \;\n[event event=1379]#_BOOKINGFORM[/event]
ATTACH;FMTTYPE=image/jpeg:https://www.beth-hillel.org/wp-content/uploads/2
 025/02/DSC_0533-1-scaled-e1740443486468.jpg
CATEGORIES:Activités,Ça Sonne
END:VEVENT
BEGIN:VEVENT
UID:1571@beth-hillel.org
DTSTART;TZID=Europe/Brussels:20260211T190000
DTEND;TZID=Europe/Brussels:20260211T203000
DTSTAMP:20260209T160338Z
URL:https://www.beth-hillel.org/events/ca-sonne-5786-2026-02-11/
SUMMARY:Ça Sonne ! שָׂשׂוֹן ! Groupe vocal
DESCRIPTION:Ça sonne! שָׂשׂוֹן! Si vous souhaitez vous joindre au 
 groupe de chant sous la direction de notre radieuse professeure Fanette\, 
 inscrivez-vous.
ATTACH;FMTTYPE=image/jpeg:https://www.beth-hillel.org/wp-content/uploads/2
 025/02/DSC_0533-1-scaled-e1740443486468.jpg
CATEGORIES:Activités,Ça Sonne
END:VEVENT
BEGIN:VEVENT
UID:1573@beth-hillel.org
DTSTART;TZID=Europe/Brussels:20260225T190000
DTEND;TZID=Europe/Brussels:20260225T203000
DTSTAMP:20250902T131532Z
URL:https://www.beth-hillel.org/events/ca-sonne-5786-2026-02-25/
SUMMARY:Ça Sonne !
DESCRIPTION:שָׂשׂוֹן\nGroupe vocal de Beth Hillel\nVous aimez chant
 er\, mais les vocalises sous la douche ne vous donnent plus entière satis
 faction ?\nVous aimeriez retrouver les mélodies de votre enfance ?\nDéco
 uvrir des airs plus pop et des chansons traditionnelles ?\n\nSous la dire
 ction et l’animation de notre Professeure Fanette (Elise Cazaban).\nRejo
 ignez 2 fois par mois le groupe vocal de Beth Hillel\nLe mercredi (en gén
 éral) à 19h00\n\nPour obtenir plus d'informations : cliquez-ici\n\n&nbsp
 \;\n[event event=1379]#_BOOKINGFORM[/event]
ATTACH;FMTTYPE=image/jpeg:https://www.beth-hillel.org/wp-content/uploads/2
 025/02/DSC_0533-1-scaled-e1740443486468.jpg
CATEGORIES:Activités,Ça Sonne
END:VEVENT
BEGIN:VEVENT
UID:1575@beth-hillel.org
DTSTART;TZID=Europe/Brussels:20260311T190000
DTEND;TZID=Europe/Brussels:20260311T203000
DTSTAMP:20250902T131532Z
URL:https://www.beth-hillel.org/events/ca-sonne-5786-2026-03-11/
SUMMARY:Ça Sonne !
DESCRIPTION:שָׂשׂוֹן\nGroupe vocal de Beth Hillel\nVous aimez chant
 er\, mais les vocalises sous la douche ne vous donnent plus entière satis
 faction ?\nVous aimeriez retrouver les mélodies de votre enfance ?\nDéco
 uvrir des airs plus pop et des chansons traditionnelles ?\n\nSous la dire
 ction et l’animation de notre Professeure Fanette (Elise Cazaban).\nRejo
 ignez 2 fois par mois le groupe vocal de Beth Hillel\nLe mercredi (en gén
 éral) à 19h00\n\nPour obtenir plus d'informations : cliquez-ici\n\n&nbsp
 \;\n[event event=1379]#_BOOKINGFORM[/event]
ATTACH;FMTTYPE=image/jpeg:https://www.beth-hillel.org/wp-content/uploads/2
 025/02/DSC_0533-1-scaled-e1740443486468.jpg
CATEGORIES:Activités,Ça Sonne
END:VEVENT
BEGIN:VEVENT
UID:1577@beth-hillel.org
DTSTART;TZID=Europe/Brussels:20260325T190000
DTEND;TZID=Europe/Brussels:20260325T203000
DTSTAMP:20250902T131532Z
URL:https://www.beth-hillel.org/events/ca-sonne-5786-2026-03-25/
SUMMARY:Ça Sonne !
DESCRIPTION:שָׂשׂוֹן\nGroupe vocal de Beth Hillel\nVous aimez chant
 er\, mais les vocalises sous la douche ne vous donnent plus entière satis
 faction ?\nVous aimeriez retrouver les mélodies de votre enfance ?\nDéco
 uvrir des airs plus pop et des chansons traditionnelles ?\n\nSous la dire
 ction et l’animation de notre Professeure Fanette (Elise Cazaban).\nRejo
 ignez 2 fois par mois le groupe vocal de Beth Hillel\nLe mercredi (en gén
 éral) à 19h00\n\nPour obtenir plus d'informations : cliquez-ici\n\n&nbsp
 \;\n[event event=1379]#_BOOKINGFORM[/event]
ATTACH;FMTTYPE=image/jpeg:https://www.beth-hillel.org/wp-content/uploads/2
 025/02/DSC_0533-1-scaled-e1740443486468.jpg
CATEGORIES:Activités,Ça Sonne
END:VEVENT
BEGIN:VEVENT
UID:1580@beth-hillel.org
DTSTART;TZID=Europe/Brussels:20260415T190000
DTEND;TZID=Europe/Brussels:20260415T203000
DTSTAMP:20260407T085238Z
URL:https://www.beth-hillel.org/events/ca-sonne-5786-2026-04-15/
SUMMARY:Ça Sonne !
DESCRIPTION: Le groupe vocale de Beth Hillel sous la direction de Fanette s
 e réunit. !ששון֭֭
ATTACH;FMTTYPE=image/jpeg:https://www.beth-hillel.org/wp-content/uploads/2
 025/02/DSC_0533-1-scaled-e1740443486468.jpg
CATEGORIES:Activités,Ça Sonne
END:VEVENT
BEGIN:VEVENT
UID:1584@beth-hillel.org
DTSTART;TZID=Europe/Brussels:20260513T190000
DTEND;TZID=Europe/Brussels:20260513T203000
DTSTAMP:20250902T131532Z
URL:https://www.beth-hillel.org/events/ca-sonne-5786-2026-05-13/
SUMMARY:Ça Sonne !
DESCRIPTION:שָׂשׂוֹן\nGroupe vocal de Beth Hillel\nVous aimez chant
 er\, mais les vocalises sous la douche ne vous donnent plus entière satis
 faction ?\nVous aimeriez retrouver les mélodies de votre enfance ?\nDéco
 uvrir des airs plus pop et des chansons traditionnelles ?\n\nSous la dire
 ction et l’animation de notre Professeure Fanette (Elise Cazaban).\nRejo
 ignez 2 fois par mois le groupe vocal de Beth Hillel\nLe mercredi (en gén
 éral) à 19h00\n\nPour obtenir plus d'informations : cliquez-ici\n\n&nbsp
 \;\n[event event=1379]#_BOOKINGFORM[/event]
ATTACH;FMTTYPE=image/jpeg:https://www.beth-hillel.org/wp-content/uploads/2
 025/02/DSC_0533-1-scaled-e1740443486468.jpg
CATEGORIES:Activités,Ça Sonne
END:VEVENT
BEGIN:VEVENT
UID:1587@beth-hillel.org
DTSTART;TZID=Europe/Brussels:20260603T190000
DTEND;TZID=Europe/Brussels:20260603T203000
DTSTAMP:20250902T131532Z
URL:https://www.beth-hillel.org/events/ca-sonne-5786-2026-06-03/
SUMMARY:Ça Sonne !
DESCRIPTION:שָׂשׂוֹן\nGroupe vocal de Beth Hillel\nVous aimez chant
 er\, mais les vocalises sous la douche ne vous donnent plus entière satis
 faction ?\nVous aimeriez retrouver les mélodies de votre enfance ?\nDéco
 uvrir des airs plus pop et des chansons traditionnelles ?\n\nSous la dire
 ction et l’animation de notre Professeure Fanette (Elise Cazaban).\nRejo
 ignez 2 fois par mois le groupe vocal de Beth Hillel\nLe mercredi (en gén
 éral) à 19h00\n\nPour obtenir plus d'informations : cliquez-ici\n\n&nbsp
 \;\n[event event=1379]#_BOOKINGFORM[/event]
ATTACH;FMTTYPE=image/jpeg:https://www.beth-hillel.org/wp-content/uploads/2
 025/02/DSC_0533-1-scaled-e1740443486468.jpg
CATEGORIES:Activités,Ça Sonne
END:VEVENT
BEGIN:VEVENT
UID:1589@beth-hillel.org
DTSTART;TZID=Europe/Brussels:20260617T190000
DTEND;TZID=Europe/Brussels:20260617T203000
DTSTAMP:20250902T131532Z
URL:https://www.beth-hillel.org/events/ca-sonne-5786-2026-06-17/
SUMMARY:Ça Sonne !
DESCRIPTION:שָׂשׂוֹן\nGroupe vocal de Beth Hillel\nVous aimez chant
 er\, mais les vocalises sous la douche ne vous donnent plus entière satis
 faction ?\nVous aimeriez retrouver les mélodies de votre enfance ?\nDéco
 uvrir des airs plus pop et des chansons traditionnelles ?\n\nSous la dire
 ction et l’animation de notre Professeure Fanette (Elise Cazaban).\nRejo
 ignez 2 fois par mois le groupe vocal de Beth Hillel\nLe mercredi (en gén
 éral) à 19h00\n\nPour obtenir plus d'informations : cliquez-ici\n\n&nbsp
 \;\n[event event=1379]#_BOOKINGFORM[/event]
ATTACH;FMTTYPE=image/jpeg:https://www.beth-hillel.org/wp-content/uploads/2
 025/02/DSC_0533-1-scaled-e1740443486468.jpg
CATEGORIES:Activités,Ça Sonne
END:VEVENT
BEGIN:VTIMEZONE
TZID:Europe/Brussels
X-LIC-LOCATION:Europe/Brussels
BEGIN:DAYLIGHT
DTSTART:20240331T030000
TZOFFSETFROM:+0100
TZOFFSETTO:+0200
TZNAME:CEST
END:DAYLIGHT
BEGIN:STANDARD
DTSTART:20241027T020000
TZOFFSETFROM:+0200
TZOFFSETTO:+0100
TZNAME:CET
END:STANDARD
BEGIN:DAYLIGHT
DTSTART:20250330T030000
TZOFFSETFROM:+0100
TZOFFSETTO:+0200
TZNAME:CEST
END:DAYLIGHT
BEGIN:STANDARD
DTSTART:20251026T020000
TZOFFSETFROM:+0200
TZOFFSETTO:+0100
TZNAME:CET
END:STANDARD
BEGIN:DAYLIGHT
DTSTART:20260329T030000
TZOFFSETFROM:+0100
TZOFFSETTO:+0200
TZNAME:CEST
END:DAYLIGHT
END:VTIMEZONE
END:VCALENDAR