BEGIN:VCALENDAR
VERSION:2.0
PRODID:-//wp-events-plugin.com-MN//7.2.3.1//EN
REFRESH-INTERVAL;VALUE=DURATION:PT1H
TZID:Europe/Brussels
X-WR-TIMEZONE:Europe/Brussels
BEGIN:VEVENT
UID:1939@beth-hillel.org
DTSTART;TZID=Europe/Brussels:20251122T093000
DTEND;TZID=Europe/Brussels:20251122T220000
DTSTAMP:20251118T165813Z
URL:https://www.beth-hillel.org/events/anniversaires-de-beth-hillel/
SUMMARY:Anniversaire(s) de Beth Hillel
DESCRIPTION:Le samedi 22 novembre\, rejoignez-nous à la synagogue Beth Hil
 lel pour célébrer les 60 ans de notre belle communauté et les 20 ans de
  la synagogue. Places limitées!
ATTACH;FMTTYPE=image/jpeg:https://www.beth-hillel.org/wp-content/uploads/2
 025/02/logo-site-3-2.png
CATEGORIES:Evénement,Repas
END:VEVENT
BEGIN:VEVENT
UID:2071@beth-hillel.org
DTSTART;TZID=Europe/Brussels:20260208T150000
DTEND;TZID=Europe/Brussels:20260208T200000
DTSTAMP:20260207T204840Z
URL:https://www.beth-hillel.org/events/harmony-week-autour-de-joseph/
SUMMARY:Harmony Week : autour de Joseph
DESCRIPTION:Conférence par Anne de Potter & Radouane Attiya.\nEntrée grat
 uite - inscription obligatoire avant le 5 février.
ATTACH;FMTTYPE=image/jpeg:https://www.beth-hillel.org/wp-content/uploads/2
 026/01/Design-sans-titre-e1767887595802.png
CATEGORIES:Evénement,Interconvictionnel
END:VEVENT
BEGIN:VEVENT
UID:2088@beth-hillel.org
DTSTART;TZID=Europe/Brussels:20260302T190000
DTEND;TZID=Europe/Brussels:20260302T203000
DTSTAMP:20260217T163212Z
URL:https://www.beth-hillel.org/events/office-pourim-lecture-de-la-meguila
 t-esther-kiddouch/
SUMMARY:Lecture de la Meguilat Esther+ Kiddouch
DESCRIPTION:Pourim rime avec la lecture de la Meguilat Esther. Écouter ce 
 récit est une mitzvah édifiante et conviviale à accomplir.
ATTACH;FMTTYPE=image/jpeg:https://www.beth-hillel.org/wp-content/uploads/2
 026/02/Screenshot_2026-02-16_19-55-51-e1771330398635.png
CATEGORIES:Evénement,Office,Pourim
END:VEVENT
BEGIN:VEVENT
UID:2094@beth-hillel.org
DTSTART;TZID=Europe/Brussels:20260412T153000
DTEND;TZID=Europe/Brussels:20260412T180000
DTSTAMP:20260407T132144Z
URL:https://www.beth-hillel.org/events/cine-cina-la-grand-synagogue-de-vil
 n/
SUMMARY:Ciné-Cina - La Grande Synagogue de Vilna
DESCRIPTION:Venez découvrir le film et profitez d'un premier goûter commu
 nautaire après Pessaẖ. 
ATTACH;FMTTYPE=image/jpeg:https://www.beth-hillel.org/wp-content/uploads/2
 026/03/Logo-Cine-Cina-e1774361620968.png
CATEGORIES:Ciné-Cina,Culture,Evénement
END:VEVENT
BEGIN:VTIMEZONE
TZID:Europe/Brussels
X-LIC-LOCATION:Europe/Brussels
BEGIN:STANDARD
DTSTART:20251026T020000
TZOFFSETFROM:+0200
TZOFFSETTO:+0100
TZNAME:CET
END:STANDARD
BEGIN:DAYLIGHT
DTSTART:20260329T030000
TZOFFSETFROM:+0100
TZOFFSETTO:+0200
TZNAME:CEST
END:DAYLIGHT
END:VTIMEZONE
END:VCALENDAR