BEGIN:VCALENDAR
VERSION:2.0
PRODID:-//wp-events-plugin.com-MN//7.2.3.1//EN
REFRESH-INTERVAL;VALUE=DURATION:PT1H
TZID:Europe/Brussels
X-WR-TIMEZONE:Europe/Brussels
BEGIN:VEVENT
UID:1958@beth-hillel.org
DTSTART;TZID=Europe/Brussels:20251023T190000
DTEND;TZID=Europe/Brussels:20251023T210000
DTSTAMP:20250915T155815Z
URL:https://www.beth-hillel.org/events/un-talmud-a-nous-2025-10-23/
SUMMARY:un Talmud à nous
DESCRIPTION:Le Talmud est l’une des parties les plus vivantes\, complexes
  et humaines de notre tradition. Cette année venez le découvrir avec l'
 étudiant rabbin Mati L.Boulakia-Bortnick.\nLes cours seront alternativeme
 nt en présentiel et en ligne.
ATTACH;FMTTYPE=image/jpeg:https://www.beth-hillel.org/wp-content/uploads/2
 025/09/1280px-Hungarian_Jewish_Museum_Talmud-2.jpg
CATEGORIES:Talmud
END:VEVENT
BEGIN:VEVENT
UID:1959@beth-hillel.org
DTSTART;TZID=Europe/Brussels:20251120T190000
DTEND;TZID=Europe/Brussels:20251120T210000
DTSTAMP:20250915T155815Z
URL:https://www.beth-hillel.org/events/un-talmud-a-nous-2025-11-20/
SUMMARY:un Talmud à nous
DESCRIPTION:Le Talmud est l’une des parties les plus vivantes\, complexes
  et humaines de notre tradition. Cette année venez le découvrir avec l'
 étudiant rabbin Mati L.Boulakia-Bortnick.\nLes cours seront alternativeme
 nt en présentiel et en ligne.
ATTACH;FMTTYPE=image/jpeg:https://www.beth-hillel.org/wp-content/uploads/2
 025/09/1280px-Hungarian_Jewish_Museum_Talmud-2.jpg
CATEGORIES:Talmud
END:VEVENT
BEGIN:VEVENT
UID:1870@beth-hillel.org
DTSTART;TZID=Europe/Brussels:20251127T183000
DTEND;TZID=Europe/Brussels:20251127T203000
DTSTAMP:20250925T113517Z
URL:https://www.beth-hillel.org/events/un-talmud-a-nous-en-ligne-2025-11-2
 7/
SUMMARY:un Talmud à nous (en ligne)
DESCRIPTION:Le Talmud est l’une des parties les plus vivantes\, complexes
  et humaines de notre tradition. Cette année venez le découvrir avec l'
 étudiant rabbin Mati L.Boulakia-Bortnick.\nLes cours seront alternativeme
 nt en présentiel et en ligne.
ATTACH;FMTTYPE=image/jpeg:https://www.beth-hillel.org/wp-content/uploads/2
 025/09/1280px-Hungarian_Jewish_Museum_Talmud-2.jpg
CATEGORIES:En Ligne,Talmud
END:VEVENT
BEGIN:VEVENT
UID:1960@beth-hillel.org
DTSTART;TZID=Europe/Brussels:20251218T190000
DTEND;TZID=Europe/Brussels:20251218T210000
DTSTAMP:20251201T124413Z
URL:https://www.beth-hillel.org/events/un-talmud-a-nous-2025-12-18/
SUMMARY:un Talmud à nous
DESCRIPTION:Le Talmud est l’une des parties les plus vivantes\, complexes
  et humaines de notre tradition. Cette année venez le découvrir avec l'
 étudiant rabbin Mati L.Boulakia-Bortnick.\nLes cours seront alternativeme
 nt en présentiel et en ligne.
ATTACH;FMTTYPE=image/jpeg:https://www.beth-hillel.org/wp-content/uploads/2
 025/09/1280px-Hungarian_Jewish_Museum_Talmud-2.jpg
CATEGORIES:H̱anoukkah,Talmud
END:VEVENT
BEGIN:VEVENT
UID:1961@beth-hillel.org
DTSTART;TZID=Europe/Brussels:20260108T190000
DTEND;TZID=Europe/Brussels:20260108T210000
DTSTAMP:20250915T155815Z
URL:https://www.beth-hillel.org/events/un-talmud-a-nous-2026-01-08/
SUMMARY:un Talmud à nous
DESCRIPTION:Le Talmud est l’une des parties les plus vivantes\, complexes
  et humaines de notre tradition. Cette année venez le découvrir avec l'
 étudiant rabbin Mati L.Boulakia-Bortnick.\nLes cours seront alternativeme
 nt en présentiel et en ligne.
ATTACH;FMTTYPE=image/jpeg:https://www.beth-hillel.org/wp-content/uploads/2
 025/09/1280px-Hungarian_Jewish_Museum_Talmud-2.jpg
CATEGORIES:Talmud
END:VEVENT
BEGIN:VEVENT
UID:1871@beth-hillel.org
DTSTART;TZID=Europe/Brussels:20260122T183000
DTEND;TZID=Europe/Brussels:20260122T203000
DTSTAMP:20250925T113517Z
URL:https://www.beth-hillel.org/events/un-talmud-a-nous-en-ligne-2026-01-2
 2/
SUMMARY:un Talmud à nous (en ligne)
DESCRIPTION:Le Talmud est l’une des parties les plus vivantes\, complexes
  et humaines de notre tradition. Cette année venez le découvrir avec l'
 étudiant rabbin Mati L.Boulakia-Bortnick.\nLes cours seront alternativeme
 nt en présentiel et en ligne.
ATTACH;FMTTYPE=image/jpeg:https://www.beth-hillel.org/wp-content/uploads/2
 025/09/1280px-Hungarian_Jewish_Museum_Talmud-2.jpg
CATEGORIES:En Ligne,Talmud
END:VEVENT
BEGIN:VEVENT
UID:1962@beth-hillel.org
DTSTART;TZID=Europe/Brussels:20260212T190000
DTEND;TZID=Europe/Brussels:20260212T210000
DTSTAMP:20250915T155815Z
URL:https://www.beth-hillel.org/events/un-talmud-a-nous-2026-02-12/
SUMMARY:un Talmud à nous
DESCRIPTION:Le Talmud est l’une des parties les plus vivantes\, complexes
  et humaines de notre tradition. Cette année venez le découvrir avec l'
 étudiant rabbin Mati L.Boulakia-Bortnick.\nLes cours seront alternativeme
 nt en présentiel et en ligne.
ATTACH;FMTTYPE=image/jpeg:https://www.beth-hillel.org/wp-content/uploads/2
 025/09/1280px-Hungarian_Jewish_Museum_Talmud-2.jpg
CATEGORIES:Talmud
END:VEVENT
BEGIN:VEVENT
UID:1872@beth-hillel.org
DTSTART;TZID=Europe/Brussels:20260226T183000
DTEND;TZID=Europe/Brussels:20260226T203000
DTSTAMP:20250925T113517Z
URL:https://www.beth-hillel.org/events/un-talmud-a-nous-en-ligne-2026-02-2
 6/
SUMMARY:un Talmud à nous (en ligne)
DESCRIPTION:Le Talmud est l’une des parties les plus vivantes\, complexes
  et humaines de notre tradition. Cette année venez le découvrir avec l'
 étudiant rabbin Mati L.Boulakia-Bortnick.\nLes cours seront alternativeme
 nt en présentiel et en ligne.
ATTACH;FMTTYPE=image/jpeg:https://www.beth-hillel.org/wp-content/uploads/2
 025/09/1280px-Hungarian_Jewish_Museum_Talmud-2.jpg
CATEGORIES:En Ligne,Talmud
END:VEVENT
BEGIN:VEVENT
UID:1963@beth-hillel.org
DTSTART;TZID=Europe/Brussels:20260312T190000
DTEND;TZID=Europe/Brussels:20260312T210000
DTSTAMP:20250915T155815Z
URL:https://www.beth-hillel.org/events/un-talmud-a-nous-2026-03-12/
SUMMARY:un Talmud à nous
DESCRIPTION:Le Talmud est l’une des parties les plus vivantes\, complexes
  et humaines de notre tradition. Cette année venez le découvrir avec l'
 étudiant rabbin Mati L.Boulakia-Bortnick.\nLes cours seront alternativeme
 nt en présentiel et en ligne.
ATTACH;FMTTYPE=image/jpeg:https://www.beth-hillel.org/wp-content/uploads/2
 025/09/1280px-Hungarian_Jewish_Museum_Talmud-2.jpg
CATEGORIES:Talmud
END:VEVENT
BEGIN:VEVENT
UID:1873@beth-hillel.org
DTSTART;TZID=Europe/Brussels:20260326T183000
DTEND;TZID=Europe/Brussels:20260326T203000
DTSTAMP:20250925T113517Z
URL:https://www.beth-hillel.org/events/un-talmud-a-nous-en-ligne-2026-03-2
 6/
SUMMARY:un Talmud à nous (en ligne)
DESCRIPTION:Le Talmud est l’une des parties les plus vivantes\, complexes
  et humaines de notre tradition. Cette année venez le découvrir avec l'
 étudiant rabbin Mati L.Boulakia-Bortnick.\nLes cours seront alternativeme
 nt en présentiel et en ligne.
ATTACH;FMTTYPE=image/jpeg:https://www.beth-hillel.org/wp-content/uploads/2
 025/09/1280px-Hungarian_Jewish_Museum_Talmud-2.jpg
CATEGORIES:En Ligne,Talmud
END:VEVENT
BEGIN:VEVENT
UID:2092@beth-hillel.org
DTSTART;TZID=Europe/Brussels:20260405T160000
DTEND;TZID=Europe/Brussels:20260405T180000
DTSTAMP:20260324T155925Z
URL:https://www.beth-hillel.org/events/un-talmud-a-nous-cours-de-talmud-ou
 vert-a-tous/
SUMMARY:Un Talmud à nous Spécial Pessaẖ - Ouvert à tous
DESCRIPTION:Malgré des connaissances de base en hébreu\, plongez-vous dan
 s le Talmud. 
ATTACH;FMTTYPE=image/jpeg:https://www.beth-hillel.org/wp-content/uploads/2
 026/03/Talmud-_-Ordi-3-e1774361428529.png
CATEGORIES:Culture,news,Talmud
END:VEVENT
BEGIN:VEVENT
UID:1964@beth-hillel.org
DTSTART;TZID=Europe/Brussels:20260416T190000
DTEND;TZID=Europe/Brussels:20260416T210000
DTSTAMP:20260312T172836Z
URL:https://www.beth-hillel.org/events/un-talmud-a-nous-2026-05-07/
SUMMARY:un Talmud à nous
DESCRIPTION:Le Talmud est l’une des parties les plus vivantes\, complexes
  et humaines de notre tradition. Cette année venez le découvrir avec l'
 étudiant rabbin Mati L.Boulakia-Bortnick.\nLes cours seront alternativeme
 nt en présentiel et en ligne.
ATTACH;FMTTYPE=image/jpeg:https://www.beth-hillel.org/wp-content/uploads/2
 025/09/1280px-Hungarian_Jewish_Museum_Talmud-2.jpg
CATEGORIES:Talmud
END:VEVENT
BEGIN:VEVENT
UID:1874@beth-hillel.org
DTSTART;TZID=Europe/Brussels:20260507T183000
DTEND;TZID=Europe/Brussels:20260507T203000
DTSTAMP:20260312T172948Z
URL:https://www.beth-hillel.org/events/un-talmud-a-nous-en-ligne-2026-04-1
 6/
SUMMARY:un Talmud à nous (en ligne)
DESCRIPTION:Le Talmud est l’une des parties les plus vivantes\, complexes
  et humaines de notre tradition. Cette année venez le découvrir avec l'
 étudiant rabbin Mati L.Boulakia-Bortnick.\nLes cours seront alternativeme
 nt en présentiel et en ligne.
ATTACH;FMTTYPE=image/jpeg:https://www.beth-hillel.org/wp-content/uploads/2
 025/09/1280px-Hungarian_Jewish_Museum_Talmud-2.jpg
CATEGORIES:En Ligne,Talmud
END:VEVENT
BEGIN:VEVENT
UID:1965@beth-hillel.org
DTSTART;TZID=Europe/Brussels:20260611T190000
DTEND;TZID=Europe/Brussels:20260611T210000
DTSTAMP:20250915T155815Z
URL:https://www.beth-hillel.org/events/un-talmud-a-nous-2026-06-11/
SUMMARY:un Talmud à nous
DESCRIPTION:Le Talmud est l’une des parties les plus vivantes\, complexes
  et humaines de notre tradition. Cette année venez le découvrir avec l'
 étudiant rabbin Mati L.Boulakia-Bortnick.\nLes cours seront alternativeme
 nt en présentiel et en ligne.
ATTACH;FMTTYPE=image/jpeg:https://www.beth-hillel.org/wp-content/uploads/2
 025/09/1280px-Hungarian_Jewish_Museum_Talmud-2.jpg
CATEGORIES:Talmud
END:VEVENT
BEGIN:VTIMEZONE
TZID:Europe/Brussels
X-LIC-LOCATION:Europe/Brussels
BEGIN:DAYLIGHT
DTSTART:20250330T030000
TZOFFSETFROM:+0100
TZOFFSETTO:+0200
TZNAME:CEST
END:DAYLIGHT
BEGIN:STANDARD
DTSTART:20251026T020000
TZOFFSETFROM:+0200
TZOFFSETTO:+0100
TZNAME:CET
END:STANDARD
BEGIN:DAYLIGHT
DTSTART:20260329T030000
TZOFFSETFROM:+0100
TZOFFSETTO:+0200
TZNAME:CEST
END:DAYLIGHT
END:VTIMEZONE
END:VCALENDAR