BEGIN:VCALENDAR
VERSION:2.0
PRODID:-//wp-events-plugin.com-MN//7.2.3.1//EN
REFRESH-INTERVAL;VALUE=DURATION:PT1H
TZID:Europe/Brussels
X-WR-TIMEZONE:Europe/Brussels
BEGIN:VEVENT
UID:634@beth-hillel.org
DTSTART;TZID=Europe/Brussels:20240913T203000
DTEND;TZID=Europe/Brussels:20240913T223000
DTSTAMP:20240910T192730Z
URL:https://www.beth-hillel.org/events/tamar-wants-you/
SUMMARY:Tamar Wants You!
DESCRIPTION:Tamar wants you!\nVous cherchez à rencontrer d’autres jeunes
  adultes (18 à 35 ans) au sein de la synagogue et en dehors?\nRejoignez T
 amar à l’office du vendredi 13 septembre à 19h00 pour un Chabbat chale
 ureux et gourmand !\nL’office sera suivi d’un Kiddouch mené par Tamar
 \, et d’un repas communautaire “potluck” réservé aux jeunes adulte
 s\, avec de la H̱allah à se damner!\n\nConfirmez votre participation à 
 tamarbelgium@gmail.com\, ... sinon on risque de tout manger sans vous.\n\n
 Qui sommes-nous ? https://www.facebook.com/TamarOlamiOfficial/
ATTACH;FMTTYPE=image/jpeg:https://www.beth-hillel.org/wp-content/uploads/2
 024/08/Tamar-13-09-24.png
CATEGORIES:Repas,Tamar
END:VEVENT
BEGIN:VEVENT
UID:228@beth-hillel.org
DTSTART;TZID=Europe/Brussels:20250131T190000
DTEND;TZID=Europe/Brussels:20250131T200000
DTSTAMP:20250124T193847Z
URL:https://www.beth-hillel.org/events/1023-2025-01-31/
SUMMARY:Kabbalat Chabbat  avec Tamar Belgium
DESCRIPTION:Kabbalat Chabbat  avec Tamar Belgium pour les jeunes adultes . 
 Après l'office un repas pot luck pour les 18-35 ans.
ATTACH;FMTTYPE=image/jpeg:https://www.beth-hillel.org/wp-content/uploads/2
 024/06/free-stock-photo-of-appartment-at-home-at-table-4038225-scaled-e171
 7949341467-1.jpg
CATEGORIES:Chabbat,Office,Tamar
END:VEVENT
BEGIN:VEVENT
UID:373@beth-hillel.org
DTSTART;TZID=Europe/Brussels:20250201T103000
DTEND;TZID=Europe/Brussels:20250201T123000
DTSTAMP:20250121T105627Z
URL:https://www.beth-hillel.org/events/chah%cc%b2arit-chabbat-hybride-2025
 -02-01/
SUMMARY:Chaẖarit Chabbat Hybride Tamar
DESCRIPTION:L'office de Chaẖarit Chabbat sera l'occasion d’accueillir l
 e Rabbin Etienne Kerber pour le premier "des Chabbaton de Tamar"
ATTACH;FMTTYPE=image/jpeg:https://www.beth-hillel.org/wp-content/uploads/2
 024/06/silver-and-gold-pen-on-white-paper-5986498-scaled-e1717950948515.jp
 g
CATEGORIES:Chabbat,En Ligne,Office,Tamar
END:VEVENT
BEGIN:VEVENT
UID:835@beth-hillel.org
DTSTART;TZID=Europe/Brussels:20250201T184500
DTEND;TZID=Europe/Brussels:20250201T210000
DTSTAMP:20250129T170018Z
URL:https://www.beth-hillel.org/events/exposition-dedicace-le-petit-livre-
 de-la-torah/
SUMMARY:Conférence - Exposition : Le petit livre de la Torah
DESCRIPTION:Dédicace conférence autour du "petit livre de la Torah" par l
 e rabbin Etienne Kerber et l'illustrateur Jérémie Solomon.\n
ATTACH;FMTTYPE=image/jpeg:https://www.beth-hillel.org/wp-content/uploads/2
 025/01/etienne-jeremie-e1736867222227.png
CATEGORIES:Conférences,Sticky,Tamar
END:VEVENT
BEGIN:VEVENT
UID:236@beth-hillel.org
DTSTART;TZID=Europe/Brussels:20250328T190000
DTEND;TZID=Europe/Brussels:20250328T200000
DTSTAMP:20250321T192806Z
URL:https://www.beth-hillel.org/events/1023-2025-03-28/
SUMMARY:Kabbalat Chabbat Chabbaton Tamar
DESCRIPTION:L'office de Kabbalat Chabbat est un moment dédié à l'accueil
  du Chabbat avant de retourner à la maison pour célébrer et profiter du
  Chabbat en famille ou avec des amis. Dans notre société trépidante\, l
 'office de Kabbalat Chabbat est un moment qui permet de clore la semaine d
 'activité pour se ressourcer et apporter une dimensions spirituelle dans 
 nos vie.\n\nCe Kabblat Chabbat ouvrira le Chabbaton Tamar\, avec Rabbi Jos
 ué Ferreira.\n\nAprès le Kiddouch avec l'ensemble de la communauté\, su
 ivra un repas potluck réservé aux jeunes de Tamar\, plus d'informations 
 ici\n\n[sv slug="hallot"]
ATTACH;FMTTYPE=image/jpeg:https://www.beth-hillel.org/wp-content/uploads/2
 025/01/tamar-tranparent.png
CATEGORIES:Chabbat,Office,Tamar
END:VEVENT
BEGIN:VEVENT
UID:293@beth-hillel.org
DTSTART;TZID=Europe/Brussels:20250329T103000
DTEND;TZID=Europe/Brussels:20250329T123000
DTSTAMP:20250321T191934Z
URL:https://www.beth-hillel.org/events/1083-2025-03-29/
SUMMARY:Chaẖarit Chabbat : Chabbaton Tamar et lunch communautaire
DESCRIPTION:Chabbaton Tamar : après l'office\, l'ensemble de la communaut
 é se réunit pour un potluck\, suivi de la conférence de rabbi Josué Fe
 rreira : "Le sanctuaire et sa symbolique"
ATTACH;FMTTYPE=image/jpeg:https://www.beth-hillel.org/wp-content/uploads/2
 024/06/buffet.jpg
CATEGORIES:Chabbat,Office,Repas,Tamar
END:VEVENT
BEGIN:VEVENT
UID:871@beth-hillel.org
DTSTART;TZID=Europe/Brussels:20250329T140000
DTEND;TZID=Europe/Brussels:20250329T160000
DTSTAMP:20250325T144650Z
URL:https://www.beth-hillel.org/events/conference-tamar/
SUMMARY:Conférence "Le Sanctuaire et sa Symbolique"
DESCRIPTION:Dans le cadre du Chabbaton Tamar\, le Rabbin Josué Ferreira pr
 ésentera une conférence ouverte à l'ensemble de la communauté\, juste 
 après le lunch communautaire.\n\nLa parachat hachavou'a\, Pékoudé\, ins
 pire la conférence de rabbi Josué Ferreira\, intitulée "Le sanctuaire e
 t sa symbolique".\n\nPour une meilleure organisation\, merci de vous inscr
 ire !
ATTACH;FMTTYPE=image/jpeg:https://www.beth-hillel.org/wp-content/uploads/2
 025/03/tourism-3287159_1920-e1741066114556.jpg
CATEGORIES:Conférences,Tamar
END:VEVENT
BEGIN:VTIMEZONE
TZID:Europe/Brussels
X-LIC-LOCATION:Europe/Brussels
BEGIN:DAYLIGHT
DTSTART:20240331T030000
TZOFFSETFROM:+0100
TZOFFSETTO:+0200
TZNAME:CEST
END:DAYLIGHT
BEGIN:STANDARD
DTSTART:20241027T020000
TZOFFSETFROM:+0200
TZOFFSETTO:+0100
TZNAME:CET
END:STANDARD
END:VTIMEZONE
END:VCALENDAR