BEGIN:VCALENDAR
VERSION:2.0
PRODID:-//wp-events-plugin.com-MN//7.2.3.1//EN
REFRESH-INTERVAL;VALUE=DURATION:PT1H
TZID:Europe/Brussels
X-WR-TIMEZONE:Europe/Brussels
BEGIN:VEVENT
UID:541@beth-hillel.org
DTSTART;TZID=Europe/Brussels;VALUE=DATE:20241002
DTEND;TZID=Europe/Brussels;VALUE=DATE:20241013
DTSTAMP:20241011T121935Z
URL:https://www.beth-hillel.org/events/fetes-austeres-5785/
SUMMARY:Fêtes austères 5785
DESCRIPTION:Nous célèbrerons Roch haChanah et Yom Kippour les 3 et 12 oct
 obre 2024. Retrouvez tous les détails pour vous inscrire et participer au
 x grandes fêtes 5785. D'avance\, nous vous souhaitons Chanah Tovah.
ATTACH;FMTTYPE=image/jpeg:https://www.beth-hillel.org/wp-content/uploads/2
 024/10/DSC_0049cropped-scaled.jpg
CATEGORIES:Fêtes,Tichri
END:VEVENT
BEGIN:VEVENT
UID:177@beth-hillel.org
DTSTART;TZID=Europe/Brussels:20241002T190000
DTEND;TZID=Europe/Brussels:20241002T203000
DTSTAMP:20240924T133830Z
URL:https://www.beth-hillel.org/events/erev-roch-hachanah-2/
SUMMARY:Erev Roch haChanah
DESCRIPTION:Office du Soir de Roch haChanah\n\nTous les détails et réserv
 ations sur fêtes austères 5785.\n\nDiffusion en direct sur notre chaîne
  Youtube : https://www.youtube.com/@beth-hillel
ATTACH;FMTTYPE=image/jpeg:https://www.beth-hillel.org/wp-content/uploads/2
 024/05/pixabay-Ri_Ya-grenade-min.jpg
CATEGORIES:Fêtes,Office,Roch haChanah,Tichri
END:VEVENT
BEGIN:VEVENT
UID:178@beth-hillel.org
DTSTART;TZID=Europe/Brussels:20241003T100000
DTEND;TZID=Europe/Brussels:20241003T133000
DTSTAMP:20240924T133847Z
URL:https://www.beth-hillel.org/events/roch-hachanah-2/
SUMMARY:Roch haChanah
DESCRIPTION:Roch Hachanah marque le commencement de l'année hébraïque\, 
 le premier jour du mois de Tichri. C'est aussi la première des fêtes dit
 es "austères".\nGarderie et Gan Hillel\nPendant la durée de l'office\, u
 ne garderie sera ouverte pour les plus petits. Si votre enfant a entre 5 e
 t 7 ans\, il pourra participer à Gan Hillel.\n\nL'office sera suivi d'un 
 kiddouch\, et pour ceux qui le souhaitent\, nous irons ensuite faire la c
 érémonie du Tachliẖ.\n\nTous les détails et réservations sur fêtes 
 austères 5785.\n\nDiffusion en direct sur notre chaîne Youtube : https:/
 /www.youtube.com/@beth-hillel
ATTACH;FMTTYPE=image/jpeg:https://www.beth-hillel.org/wp-content/uploads/2
 024/05/pixabay-Ri_Ya-grenade-min.jpg
CATEGORIES:Fêtes,Office,Roch haChanah,Tichri
END:VEVENT
BEGIN:VEVENT
UID:626@beth-hillel.org
DTSTART;TZID=Europe/Brussels:20241006T100000
DTEND;TZID=Europe/Brussels:20241006T110000
DTSTAMP:20240924T134447Z
URL:https://www.beth-hillel.org/events/pelerinage-a-gan-hashalom-5785/
SUMMARY:Pélerinage à Gan Hashalom
DESCRIPTION:Le pèlerinage annuel au cimetière de Gan Hashalom\, qui se ti
 ent chaque année entre Roch haChanah et Yom Kippour\, aura lieu dimanche 
 6 octobre à 10h00. (Parcelle N du cimetière d'Etterbeek\, situé rue du 
 Long Chêne 88  à 1970 Wezembeek-Oppem).\nAdresse de Gan Hashalom :\nGan
  Hashalom - Cimetière de la Communauté Israélite Libérale de Belgique 
 (CILB-Synagogue Beth Hillel)\nRue du Long Chêne 88\n1970 Wezembeek-Oppem\
 nLien google map\n\nTous les détails et réservations sur fêtes austère
 s 5785.\n\n&nbsp\;
ATTACH;FMTTYPE=image/jpeg:https://www.beth-hillel.org/wp-content/uploads/2
 024/08/jewish-cemetery-6583897_1280-e1722882483262.jpg
CATEGORIES:Tichri
END:VEVENT
BEGIN:VEVENT
UID:188@beth-hillel.org
DTSTART;TZID=Europe/Brussels:20241011T183000
DTEND;TZID=Europe/Brussels:20241011T203000
DTSTAMP:20241011T133216Z
URL:https://www.beth-hillel.org/events/yom-kippour-2/
SUMMARY:Yom Kippour : Kol Nidré
DESCRIPTION:Office de Kol Nidré.\n\nTous les détails et réservations sur
  fêtes austères 5785.\nGarderie\nUne garderie est prévue pour les plus 
 petits de 3 à 8 ans\, afin de soulager les parents et leur permettre de s
 uivre les offices.\n\nDiffusion en direct sur notre chaîne Youtube : http
 s://www.youtube.com/@beth-hillel
ATTACH;FMTTYPE=image/jpeg:https://www.beth-hillel.org/wp-content/uploads/2
 024/05/Florian-Voggeneder-license-CC-BY-NC-ND-shofar-min.jpg
CATEGORIES:Chabbat,Fêtes,Office,Tichri,Yom Kippour
END:VEVENT
BEGIN:VEVENT
UID:507@beth-hillel.org
DTSTART;TZID=Europe/Brussels:20241012T100000
DTEND;TZID=Europe/Brussels:20241012T200000
DTSTAMP:20250826T133444Z
URL:https://www.beth-hillel.org/events/yom-kippour-3/
SUMMARY:Yom Kippour
DESCRIPTION:Offices de la journée de Yom Kippour.\nHoraires\n\n 	\n\n 	10h
 -14h Matin : Chaẖarit - Moussaf\n 	15h-19h45 Après-midi : Minẖah - Yi
 zkor - Néilah\n 	19h45 : Havdalah\, rupture du jeûne\n\n\n\nGarderie\, G
 an Hillel et Kid's Office\nUne garderie est prévu pour les plus petits ju
 squ'à 8 ans\, afin de soulager les parents et leur permettre de suivre le
 s offices. Si votre enfant a entre 5 et 7 ans\, il pourra participer à Ga
 n Hillel.\n\n 	\n\n 	10h-19h45 : Garderie\n 	11h00 : Gan Hillel\n 	16h00 
 : Kid's office pour les 8-12 ans\n\n\n\nChofar\nTous ceux qui ont leur pro
 pre Chofar et savent en sonner\, sont les bienvenus pour participer à la 
 sonnerie à la fin de la journée de Yom Kippour\nRupture du jeûne\nL'off
 ice se terminera avec une rupture de jeune à la synagogue. Du café\, du 
 thé\, des boissons fraîches\, de quoi rompre le jeûne vous seront offer
 t à la suite de la Havdalah de Yom Kippour.\n\nTous les détails et rése
 rvations sur fêtes austères 5785.\n\nDiffusion en direct sur notre chaî
 ne Youtube : https://www.youtube.com/@beth-hillel
ATTACH;FMTTYPE=image/jpeg:https://www.beth-hillel.org/wp-content/uploads/2
 024/05/Florian-Voggeneder-license-CC-BY-NC-ND-shofar-min.jpg
CATEGORIES:Chabbat,Fêtes,Office,Tichri,Yom Kippour
END:VEVENT
BEGIN:VEVENT
UID:831@beth-hillel.org
DTSTART;TZID=Europe/Brussels;VALUE=DATE:20250922
DTEND;TZID=Europe/Brussels;VALUE=DATE:20251003
DTSTAMP:20251001T120238Z
URL:https://www.beth-hillel.org/events/fetes-austeres-5786/
SUMMARY:Fêtes austères 5786
DESCRIPTION:Retrouvez tous les détails pour vous inscrire et participer au
 x Fêtes de Tichri 5786. Chanah Tovah!
ATTACH;FMTTYPE=image/jpeg:https://www.beth-hillel.org/wp-content/uploads/2
 024/10/DSC_0049cropped-scaled.jpg
CATEGORIES:Fêtes,Tichri
END:VEVENT
BEGIN:VEVENT
UID:1172@beth-hillel.org
DTSTART;TZID=Europe/Brussels:20250922T190000
DTEND;TZID=Europe/Brussels:20250922T203000
DTSTAMP:20250826T133135Z
URL:https://www.beth-hillel.org/events/erev-roch-hachanah/
SUMMARY:Erev Roch haChanah
DESCRIPTION:Office du soir de Roch haChanah\, Chanah tovah oumetoukkah! 
ATTACH;FMTTYPE=image/jpeg:https://www.beth-hillel.org/wp-content/uploads/2
 024/05/pixabay-Ri_Ya-grenade-min.jpg
CATEGORIES:Fêtes,Office,Roch haChanah,Tichri
END:VEVENT
BEGIN:VEVENT
UID:1175@beth-hillel.org
DTSTART;TZID=Europe/Brussels:20250923T100000
DTEND;TZID=Europe/Brussels:20250923T133000
DTSTAMP:20250826T133249Z
URL:https://www.beth-hillel.org/events/roch-hachanah/
SUMMARY:Roch haChanah
DESCRIPTION:Chanah tovah oumetoukkah! L'office sera suivi d'un Kiddouch\, e
 t pour ceux qui le souhaitent\, nous irons ensuite faire la cérémonie du
  Tachliẖ.
ATTACH;FMTTYPE=image/jpeg:https://www.beth-hillel.org/wp-content/uploads/2
 024/05/pixabay-Ri_Ya-grenade-min.jpg
CATEGORIES:Fêtes,Office,Roch haChanah,Tichri
END:VEVENT
BEGIN:VEVENT
UID:1176@beth-hillel.org
DTSTART;TZID=Europe/Brussels:20250928T100000
DTEND;TZID=Europe/Brussels:20250928T110000
DTSTAMP:20250705T135056Z
URL:https://www.beth-hillel.org/events/pelerinage-a-gan-hashalom/
SUMMARY:Pélerinage à Gan Hashalom
DESCRIPTION:Le pèlerinage annuel au cimetière de Gan Hashalom\, qui se ti
 ent chaque année entre Roch haChanah et Yom Kippour\, aura lieu dimanche 
 28 septembre à 10h00. (Parcelle N du cimetière d'Etterbeek\, situé rue 
 du Long Chêne 88  à 1970 Wezembeek-Oppem).\nAdresse de Gan Hashalom :\n
 Gan Hashalom - Cimetière de la Communauté Israélite Libérale de Belgiq
 ue (CILB-Synagogue Beth Hillel)\nRue du Long Chêne 88\n1970 Wezembeek-Opp
 em\nLien google map\n\nTous les détails et réservations sur fêtes aust
 ères 5786.\n\n&nbsp\;
ATTACH;FMTTYPE=image/jpeg:https://www.beth-hillel.org/wp-content/uploads/2
 024/08/jewish-cemetery-6583897_1280-e1722882483262.jpg
CATEGORIES:Tichri
END:VEVENT
BEGIN:VEVENT
UID:1177@beth-hillel.org
DTSTART;TZID=Europe/Brussels:20251001T190000
DTEND;TZID=Europe/Brussels:20251001T210000
DTSTAMP:20250929T181507Z
URL:https://www.beth-hillel.org/events/yom-kippour-kol-nidre/
SUMMARY:Yom Kippour : Kol Nidré
DESCRIPTION:Erev Yom Kippour : Office de Kol Nidré\n\nTous les détails et
  réservations sur fêtes austères 5786.\nGarderie\nUne garderie est pré
 vue pour les plus petits de 3 à 8 ans\, afin de soulager les parents et l
 eur permettre de suivre les offices.\n\nDiffusion en direct sur notre cha
 îne Youtube : https://www.youtube.com/@beth-hillel\n\nVous pouvez suivre 
 les offices en ligne en consultant ou téléchargeant le Maẖzor de Yom K
 ippour ici.
ATTACH;FMTTYPE=image/jpeg:https://www.beth-hillel.org/wp-content/uploads/2
 024/05/Florian-Voggeneder-license-CC-BY-NC-ND-shofar-min.jpg
CATEGORIES:Fêtes,Office,Tichri,Yom Kippour
END:VEVENT
BEGIN:VEVENT
UID:1178@beth-hillel.org
DTSTART;TZID=Europe/Brussels:20251002T100000
DTEND;TZID=Europe/Brussels:20251002T143000
DTSTAMP:20250929T181350Z
URL:https://www.beth-hillel.org/events/yom-kippour/
SUMMARY:Yom Kippour matin
DESCRIPTION:Offices de la journée de Yom Kippour.\nHoraires\n\n 	\n\n 	10h
 -14h30 Matin : Chaẖarit - Moussaf\n\n\n\nGarderie\nUne garderie est pré
 vu pour les plus petits jusqu'à 8 ans\, afin de soulager les parents et l
 eur permettre de suivre les offices.\n\n 	\n\n 	10h-20h09 : Garderie\n\n\n
 \nChofar\nTous ceux qui ont leur propre Chofar et savent en sonner\, sont 
 les bienvenus pour participer à la sonnerie à la fin de la journée de Y
 om Kippour\nRupture du jeûne\nL'office se terminera avec une rupture de j
 eune à la synagogue. Du café\, du thé\, des boissons fraîches\, de quo
 i rompre le jeûne vous seront offert à la suite de la Havdalah de Yom Ki
 ppour.\n\nTous les détails et réservations sur fêtes austères 5786.\n\
 nDiffusion en direct sur notre chaîne Youtube : https://www.youtube.com/@
 beth-hillel\n\nVous pouvez suivre les offices en ligne en consultant ou t
 éléchargeant le Maẖzor de Yom Kippour ici.
ATTACH;FMTTYPE=image/jpeg:https://www.beth-hillel.org/wp-content/uploads/2
 024/05/Florian-Voggeneder-license-CC-BY-NC-ND-shofar-min.jpg
CATEGORIES:Fêtes,Office,Tichri,Yom Kippour
END:VEVENT
BEGIN:VEVENT
UID:1967@beth-hillel.org
DTSTART;TZID=Europe/Brussels:20251002T151500
DTEND;TZID=Europe/Brussels:20251002T201500
DTSTAMP:20250929T181528Z
URL:https://www.beth-hillel.org/events/yom-kippour-apres-midi/
SUMMARY:Yom Kippour après-midi
DESCRIPTION:Offices de la journée de Yom Kippour.\nHoraires\n\n 	\n\n 	15h
 15-20h09 Après-midi : Minẖah - Yizkor - Néilah\n 	20h09 : Havdalah\, r
 upture du jeûne\n\n\n\nGarderie\nUne garderie est prévu pour les plus pe
 tits jusqu'à 8 ans\, afin de soulager les parents et leur permettre de su
 ivre les offices.\n\n 	\n\n 	10h-20h09 : Garderie\n\n\n\nChofar\nTous ceux
  qui ont leur propre Chofar et savent en sonner\, sont les bienvenus pour 
 participer à la sonnerie à la fin de la journée de Yom Kippour\nRupture
  du jeûne\nL'office se terminera avec une rupture de jeune à la synagogu
 e. Du café\, du thé\, des boissons fraîches\, de quoi rompre le jeûne 
 vous seront offert à la suite de la Havdalah de Yom Kippour.\n\nTous les 
 détails et réservations sur fêtes austères 5786.\n\nDiffusion en direc
 t sur notre chaîne Youtube : https://www.youtube.com/@beth-hillel\n\nVous
  pouvez suivre les offices en ligne en consultant ou téléchargeant le Ma
 ẖzor de Yom Kippour ici.
ATTACH;FMTTYPE=image/jpeg:https://www.beth-hillel.org/wp-content/uploads/2
 024/05/Florian-Voggeneder-license-CC-BY-NC-ND-shofar-min.jpg
CATEGORIES:Fêtes,Office,Tichri,Yom Kippour
END:VEVENT
BEGIN:VTIMEZONE
TZID:Europe/Brussels
X-LIC-LOCATION:Europe/Brussels
BEGIN:DAYLIGHT
DTSTART:20240331T030000
TZOFFSETFROM:+0100
TZOFFSETTO:+0200
TZNAME:CEST
END:DAYLIGHT
BEGIN:STANDARD
DTSTART:20241027T020000
TZOFFSETFROM:+0200
TZOFFSETTO:+0100
TZNAME:CET
END:STANDARD
BEGIN:DAYLIGHT
DTSTART:20250330T030000
TZOFFSETFROM:+0100
TZOFFSETTO:+0200
TZNAME:CEST
END:DAYLIGHT
END:VTIMEZONE
END:VCALENDAR