BEGIN:VCALENDAR
VERSION:2.0
PRODID:-//wp-events-plugin.com-MN//7.2.3.1//EN
REFRESH-INTERVAL;VALUE=DURATION:PT1H
TZID:Europe/Brussels
X-WR-TIMEZONE:Europe/Brussels
BEGIN:VEVENT
UID:878@beth-hillel.org
DTSTART;TZID=Europe/Brussels:20250424T180000
DTEND;TZID=Europe/Brussels:20250424T210000
DTSTAMP:20250423T164932Z
URL:https://www.beth-hillel.org/events/yom-hashoah-ceremonie/
SUMMARY:Yom HaShoah 2025 Cérémonie
DESCRIPTION:Cérémonie officielle de Yom HaShoah\, jeudi 24 avril 2025 à
  18h00 précises\, à la Synagogue Beth Hillel. Accessible à tous\, mais 
 inscription obligatoire!
ATTACH;FMTTYPE=image/jpeg:https://www.beth-hillel.org/wp-content/uploads/2
 025/03/IMG_3301.jpg
CATEGORIES:Fêtes,Yom HaShoah
END:VEVENT
BEGIN:VTIMEZONE
TZID:Europe/Brussels
X-LIC-LOCATION:Europe/Brussels
BEGIN:DAYLIGHT
DTSTART:20250330T030000
TZOFFSETFROM:+0100
TZOFFSETTO:+0200
TZNAME:CEST
END:DAYLIGHT
END:VTIMEZONE
END:VCALENDAR