BEGIN:VCALENDAR
VERSION:2.0
PRODID:-//wp-events-plugin.com-MN//7.2.3.1//EN
REFRESH-INTERVAL;VALUE=DURATION:PT1H
TZID:Europe/Brussels
X-WR-TIMEZONE:Europe/Brussels
BEGIN:VEVENT
UID:188@beth-hillel.org
DTSTART;TZID=Europe/Brussels:20241011T183000
DTEND;TZID=Europe/Brussels:20241011T203000
DTSTAMP:20241011T133216Z
URL:https://www.beth-hillel.org/events/yom-kippour-2/
SUMMARY:Yom Kippour : Kol Nidré
DESCRIPTION:Office de Kol Nidré.\n\nTous les détails et réservations sur
  fêtes austères 5785.\nGarderie\nUne garderie est prévue pour les plus 
 petits de 3 à 8 ans\, afin de soulager les parents et leur permettre de s
 uivre les offices.\n\nDiffusion en direct sur notre chaîne Youtube : http
 s://www.youtube.com/@beth-hillel
ATTACH;FMTTYPE=image/jpeg:https://www.beth-hillel.org/wp-content/uploads/2
 024/05/Florian-Voggeneder-license-CC-BY-NC-ND-shofar-min.jpg
CATEGORIES:Chabbat,Fêtes,Office,Tichri,Yom Kippour
END:VEVENT
BEGIN:VEVENT
UID:507@beth-hillel.org
DTSTART;TZID=Europe/Brussels:20241012T100000
DTEND;TZID=Europe/Brussels:20241012T200000
DTSTAMP:20250826T133444Z
URL:https://www.beth-hillel.org/events/yom-kippour-3/
SUMMARY:Yom Kippour
DESCRIPTION:Offices de la journée de Yom Kippour.\nHoraires\n\n 	\n\n 	10h
 -14h Matin : Chaẖarit - Moussaf\n 	15h-19h45 Après-midi : Minẖah - Yi
 zkor - Néilah\n 	19h45 : Havdalah\, rupture du jeûne\n\n\n\nGarderie\, G
 an Hillel et Kid's Office\nUne garderie est prévu pour les plus petits ju
 squ'à 8 ans\, afin de soulager les parents et leur permettre de suivre le
 s offices. Si votre enfant a entre 5 et 7 ans\, il pourra participer à Ga
 n Hillel.\n\n 	\n\n 	10h-19h45 : Garderie\n 	11h00 : Gan Hillel\n 	16h00 
 : Kid's office pour les 8-12 ans\n\n\n\nChofar\nTous ceux qui ont leur pro
 pre Chofar et savent en sonner\, sont les bienvenus pour participer à la 
 sonnerie à la fin de la journée de Yom Kippour\nRupture du jeûne\nL'off
 ice se terminera avec une rupture de jeune à la synagogue. Du café\, du 
 thé\, des boissons fraîches\, de quoi rompre le jeûne vous seront offer
 t à la suite de la Havdalah de Yom Kippour.\n\nTous les détails et rése
 rvations sur fêtes austères 5785.\n\nDiffusion en direct sur notre chaî
 ne Youtube : https://www.youtube.com/@beth-hillel
ATTACH;FMTTYPE=image/jpeg:https://www.beth-hillel.org/wp-content/uploads/2
 024/05/Florian-Voggeneder-license-CC-BY-NC-ND-shofar-min.jpg
CATEGORIES:Chabbat,Fêtes,Office,Tichri,Yom Kippour
END:VEVENT
BEGIN:VEVENT
UID:1177@beth-hillel.org
DTSTART;TZID=Europe/Brussels:20251001T190000
DTEND;TZID=Europe/Brussels:20251001T210000
DTSTAMP:20250929T181507Z
URL:https://www.beth-hillel.org/events/yom-kippour-kol-nidre/
SUMMARY:Yom Kippour : Kol Nidré
DESCRIPTION:Erev Yom Kippour : Office de Kol Nidré\n\nTous les détails et
  réservations sur fêtes austères 5786.\nGarderie\nUne garderie est pré
 vue pour les plus petits de 3 à 8 ans\, afin de soulager les parents et l
 eur permettre de suivre les offices.\n\nDiffusion en direct sur notre cha
 îne Youtube : https://www.youtube.com/@beth-hillel\n\nVous pouvez suivre 
 les offices en ligne en consultant ou téléchargeant le Maẖzor de Yom K
 ippour ici.
ATTACH;FMTTYPE=image/jpeg:https://www.beth-hillel.org/wp-content/uploads/2
 024/05/Florian-Voggeneder-license-CC-BY-NC-ND-shofar-min.jpg
CATEGORIES:Fêtes,Office,Tichri,Yom Kippour
END:VEVENT
BEGIN:VEVENT
UID:1178@beth-hillel.org
DTSTART;TZID=Europe/Brussels:20251002T100000
DTEND;TZID=Europe/Brussels:20251002T143000
DTSTAMP:20250929T181350Z
URL:https://www.beth-hillel.org/events/yom-kippour/
SUMMARY:Yom Kippour matin
DESCRIPTION:Offices de la journée de Yom Kippour.\nHoraires\n\n 	\n\n 	10h
 -14h30 Matin : Chaẖarit - Moussaf\n\n\n\nGarderie\nUne garderie est pré
 vu pour les plus petits jusqu'à 8 ans\, afin de soulager les parents et l
 eur permettre de suivre les offices.\n\n 	\n\n 	10h-20h09 : Garderie\n\n\n
 \nChofar\nTous ceux qui ont leur propre Chofar et savent en sonner\, sont 
 les bienvenus pour participer à la sonnerie à la fin de la journée de Y
 om Kippour\nRupture du jeûne\nL'office se terminera avec une rupture de j
 eune à la synagogue. Du café\, du thé\, des boissons fraîches\, de quo
 i rompre le jeûne vous seront offert à la suite de la Havdalah de Yom Ki
 ppour.\n\nTous les détails et réservations sur fêtes austères 5786.\n\
 nDiffusion en direct sur notre chaîne Youtube : https://www.youtube.com/@
 beth-hillel\n\nVous pouvez suivre les offices en ligne en consultant ou t
 éléchargeant le Maẖzor de Yom Kippour ici.
ATTACH;FMTTYPE=image/jpeg:https://www.beth-hillel.org/wp-content/uploads/2
 024/05/Florian-Voggeneder-license-CC-BY-NC-ND-shofar-min.jpg
CATEGORIES:Fêtes,Office,Tichri,Yom Kippour
END:VEVENT
BEGIN:VEVENT
UID:1967@beth-hillel.org
DTSTART;TZID=Europe/Brussels:20251002T151500
DTEND;TZID=Europe/Brussels:20251002T201500
DTSTAMP:20250929T181528Z
URL:https://www.beth-hillel.org/events/yom-kippour-apres-midi/
SUMMARY:Yom Kippour après-midi
DESCRIPTION:Offices de la journée de Yom Kippour.\nHoraires\n\n 	\n\n 	15h
 15-20h09 Après-midi : Minẖah - Yizkor - Néilah\n 	20h09 : Havdalah\, r
 upture du jeûne\n\n\n\nGarderie\nUne garderie est prévu pour les plus pe
 tits jusqu'à 8 ans\, afin de soulager les parents et leur permettre de su
 ivre les offices.\n\n 	\n\n 	10h-20h09 : Garderie\n\n\n\nChofar\nTous ceux
  qui ont leur propre Chofar et savent en sonner\, sont les bienvenus pour 
 participer à la sonnerie à la fin de la journée de Yom Kippour\nRupture
  du jeûne\nL'office se terminera avec une rupture de jeune à la synagogu
 e. Du café\, du thé\, des boissons fraîches\, de quoi rompre le jeûne 
 vous seront offert à la suite de la Havdalah de Yom Kippour.\n\nTous les 
 détails et réservations sur fêtes austères 5786.\n\nDiffusion en direc
 t sur notre chaîne Youtube : https://www.youtube.com/@beth-hillel\n\nVous
  pouvez suivre les offices en ligne en consultant ou téléchargeant le Ma
 ẖzor de Yom Kippour ici.
ATTACH;FMTTYPE=image/jpeg:https://www.beth-hillel.org/wp-content/uploads/2
 024/05/Florian-Voggeneder-license-CC-BY-NC-ND-shofar-min.jpg
CATEGORIES:Fêtes,Office,Tichri,Yom Kippour
END:VEVENT
BEGIN:VTIMEZONE
TZID:Europe/Brussels
X-LIC-LOCATION:Europe/Brussels
BEGIN:DAYLIGHT
DTSTART:20240331T030000
TZOFFSETFROM:+0100
TZOFFSETTO:+0200
TZNAME:CEST
END:DAYLIGHT
BEGIN:STANDARD
DTSTART:20241027T020000
TZOFFSETFROM:+0200
TZOFFSETTO:+0100
TZNAME:CET
END:STANDARD
BEGIN:DAYLIGHT
DTSTART:20250330T030000
TZOFFSETFROM:+0100
TZOFFSETTO:+0200
TZNAME:CEST
END:DAYLIGHT
END:VTIMEZONE
END:VCALENDAR