BEGIN:VCALENDAR
VERSION:2.0
PRODID:-//wp-events-plugin.com-MN//7.2.3.1//EN
REFRESH-INTERVAL;VALUE=DURATION:PT1H
TZID:Europe/Brussels
X-WR-TIMEZONE:Europe/Brussels
BEGIN:VEVENT
UID:1064@beth-hillel.org
DTSTART;TZID=Europe/Brussels:20260313T190000
DTEND;TZID=Europe/Brussels:20260313T200000
DTSTAMP:20260306T103517Z
URL:https://www.beth-hillel.org/events/chabbat-zimrat-yah-2-2026-03-13/
SUMMARY:Chabbat Zimrat Yah + Oneg Chabbat
DESCRIPTION:L'office de Kabbalat Chabbat Zimrat Yah est un office accompagn
 é par Dan au piano.\n\nComme tous les offices de Kabbalat Chabbat\, c'est
  un moment dédié à l'accueil du Chabbat avant de retourner à la maison
  pour célébrer et profiter du Chabbat en famille ou avec des amis. Dans 
 notre société trépidante\, l'office de Kabbalat Chabbat est un moment q
 ui permet de clore la semaine d'activité pour se ressourcer et apporter u
 ne dimensions spirituelle dans nos vie.\n\nCette semaine\, l'office de Kab
 balat Chabbat sera suivi d'un Oneg Chabbat en honneur des grand-parents de
  Damien.\n\n[sv slug="hallot"]
ATTACH;FMTTYPE=image/jpeg:https://www.beth-hillel.org/wp-content/uploads/2
 024/07/pexels-pixabay-221569-e1741697632647.jpg
CATEGORIES:Chabbat,Office
END:VEVENT
BEGIN:VTIMEZONE
TZID:Europe/Brussels
X-LIC-LOCATION:Europe/Brussels
BEGIN:STANDARD
DTSTART:20251026T020000
TZOFFSETFROM:+0200
TZOFFSETTO:+0100
TZNAME:CET
END:STANDARD
END:VTIMEZONE
END:VCALENDAR