BEGIN:VCALENDAR
VERSION:2.0
PRODID:-//wp-events-plugin.com-MN//7.2.3.1//EN
REFRESH-INTERVAL;VALUE=DURATION:PT1H
TZID:Europe/Brussels
X-WR-TIMEZONE:Europe/Brussels
BEGIN:VEVENT
UID:612@beth-hillel.org
DTSTART;TZID=Europe/Brussels:20250613T190000
DTEND;TZID=Europe/Brussels:20250613T200000
DTSTAMP:20250610T160546Z
URL:https://www.beth-hillel.org/events/chabbat-zimrat-yah-2025-06-13/
SUMMARY:Chabbat Zimrat Yah IJC@BH\, Repas Communautaire
DESCRIPTION:Ce Chabbat\, nous accueillerons l'étudant rabbin Mati L. Boula
 kia-Bortnick.
ATTACH;FMTTYPE=image/jpeg:https://www.beth-hillel.org/wp-content/uploads/2
 025/02/BH-IJC-lowqual.png
CATEGORIES:Chabbat,Office,Repas
END:VEVENT
BEGIN:VTIMEZONE
TZID:Europe/Brussels
X-LIC-LOCATION:Europe/Brussels
BEGIN:DAYLIGHT
DTSTART:20250330T030000
TZOFFSETFROM:+0100
TZOFFSETTO:+0200
TZNAME:CEST
END:DAYLIGHT
END:VTIMEZONE
END:VCALENDAR