BEGIN:VCALENDAR
VERSION:2.0
PRODID:-//wp-events-plugin.com-MN//7.2.3.1//EN
REFRESH-INTERVAL;VALUE=DURATION:PT1H
TZID:Europe/Brussels
X-WR-TIMEZONE:Europe/Brussels
BEGIN:VEVENT
UID:1173@beth-hillel.org
DTSTART;TZID=Europe/Brussels:20260521T183000
DTEND;TZID=Europe/Brussels:20260521T234500
DTSTAMP:20260325T162116Z
URL:https://www.beth-hillel.org/events/chavouot-tikkoun-lel-chavouot/
SUMMARY:Chavou'ot\, Tikkoun lél Chavou'ot
DESCRIPTION:Nuit de  Torah & cheesecake. 21 mai 2026. Conjointement avec I
 JC. Réservez dès à présent votre place.
ATTACH;FMTTYPE=image/jpeg:https://www.beth-hillel.org/wp-content/uploads/2
 025/06/Editor-result4.png
CATEGORIES:Chavou'ot,Fêtes,Office,Repas
END:VEVENT
BEGIN:VTIMEZONE
TZID:Europe/Brussels
X-LIC-LOCATION:Europe/Brussels
BEGIN:DAYLIGHT
DTSTART:20260329T030000
TZOFFSETFROM:+0100
TZOFFSETTO:+0200
TZNAME:CEST
END:DAYLIGHT
END:VTIMEZONE
END:VCALENDAR