BEGIN:VCALENDAR
VERSION:2.0
PRODID:-//wp-events-plugin.com-MN//7.2.3.1//EN
REFRESH-INTERVAL;VALUE=DURATION:PT1H
TZID:Europe/Brussels
X-WR-TIMEZONE:Europe/Brussels
BEGIN:VEVENT
UID:1034@beth-hillel.org
DTSTART;TZID=Europe/Brussels:20260424T190000
DTEND;TZID=Europe/Brussels:20260424T200000
DTSTAMP:20260421T133103Z
URL:https://www.beth-hillel.org/events/kabbalat-chabbat-2026-04-24/
SUMMARY:Office Beth Hillel chez IJC + repas
DESCRIPTION:Découvrez le minhag de notre communauté soeur: IJC
ATTACH;FMTTYPE=image/jpeg:https://www.beth-hillel.org/wp-content/uploads/2
 025/02/BH-IJC-lowqual.png
CATEGORIES:Chabbat,Office,Repas
END:VEVENT
BEGIN:VTIMEZONE
TZID:Europe/Brussels
X-LIC-LOCATION:Europe/Brussels
BEGIN:DAYLIGHT
DTSTART:20260329T030000
TZOFFSETFROM:+0100
TZOFFSETTO:+0200
TZNAME:CEST
END:DAYLIGHT
END:VTIMEZONE
END:VCALENDAR