BEGIN:VCALENDAR
VERSION:2.0
PRODID:-//wp-events-plugin.com-MN//7.2.3.1//EN
REFRESH-INTERVAL;VALUE=DURATION:PT1H
TZID:Europe/Brussels
X-WR-TIMEZONE:Europe/Brussels
BEGIN:VEVENT
UID:626@beth-hillel.org
DTSTART;TZID=Europe/Brussels:20241006T100000
DTEND;TZID=Europe/Brussels:20241006T110000
DTSTAMP:20240924T134447Z
URL:https://www.beth-hillel.org/events/pelerinage-a-gan-hashalom-5785/
SUMMARY:Pélerinage à Gan Hashalom
DESCRIPTION:Le pèlerinage annuel au cimetière de Gan Hashalom\, qui se ti
 ent chaque année entre Roch haChanah et Yom Kippour\, aura lieu dimanche 
 6 octobre à 10h00. (Parcelle N du cimetière d'Etterbeek\, situé rue du 
 Long Chêne 88  à 1970 Wezembeek-Oppem).\nAdresse de Gan Hashalom :\nGan
  Hashalom - Cimetière de la Communauté Israélite Libérale de Belgique 
 (CILB-Synagogue Beth Hillel)\nRue du Long Chêne 88\n1970 Wezembeek-Oppem\
 nLien google map\n\nTous les détails et réservations sur fêtes austère
 s 5785.\n\n&nbsp\;
ATTACH;FMTTYPE=image/jpeg:https://www.beth-hillel.org/wp-content/uploads/2
 024/08/jewish-cemetery-6583897_1280-e1722882483262.jpg
CATEGORIES:Tichri
END:VEVENT
BEGIN:VTIMEZONE
TZID:Europe/Brussels
X-LIC-LOCATION:Europe/Brussels
BEGIN:DAYLIGHT
DTSTART:20240331T030000
TZOFFSETFROM:+0100
TZOFFSETTO:+0200
TZNAME:CEST
END:DAYLIGHT
END:VTIMEZONE
END:VCALENDAR