BEGIN:VCALENDAR
VERSION:2.0
PRODID:-//wp-events-plugin.com-MN//7.2.3.1//EN
REFRESH-INTERVAL;VALUE=DURATION:PT1H
TZID:Europe/Brussels
X-WR-TIMEZONE:Europe/Brussels
BEGIN:VEVENT
UID:507@beth-hillel.org
DTSTART;TZID=Europe/Brussels:20241012T100000
DTEND;TZID=Europe/Brussels:20241012T200000
DTSTAMP:20250826T133444Z
URL:https://www.beth-hillel.org/events/yom-kippour-3/
SUMMARY:Yom Kippour
DESCRIPTION:Offices de la journée de Yom Kippour.\nHoraires\n\n 	\n\n 	10h
 -14h Matin : Chaẖarit - Moussaf\n 	15h-19h45 Après-midi : Minẖah - Yi
 zkor - Néilah\n 	19h45 : Havdalah\, rupture du jeûne\n\n\n\nGarderie\, G
 an Hillel et Kid's Office\nUne garderie est prévu pour les plus petits ju
 squ'à 8 ans\, afin de soulager les parents et leur permettre de suivre le
 s offices. Si votre enfant a entre 5 et 7 ans\, il pourra participer à Ga
 n Hillel.\n\n 	\n\n 	10h-19h45 : Garderie\n 	11h00 : Gan Hillel\n 	16h00 
 : Kid's office pour les 8-12 ans\n\n\n\nChofar\nTous ceux qui ont leur pro
 pre Chofar et savent en sonner\, sont les bienvenus pour participer à la 
 sonnerie à la fin de la journée de Yom Kippour\nRupture du jeûne\nL'off
 ice se terminera avec une rupture de jeune à la synagogue. Du café\, du 
 thé\, des boissons fraîches\, de quoi rompre le jeûne vous seront offer
 t à la suite de la Havdalah de Yom Kippour.\n\nTous les détails et rése
 rvations sur fêtes austères 5785.\n\nDiffusion en direct sur notre chaî
 ne Youtube : https://www.youtube.com/@beth-hillel
ATTACH;FMTTYPE=image/jpeg:https://www.beth-hillel.org/wp-content/uploads/2
 024/05/Florian-Voggeneder-license-CC-BY-NC-ND-shofar-min.jpg
CATEGORIES:Chabbat,Fêtes,Office,Tichri,Yom Kippour
END:VEVENT
BEGIN:VTIMEZONE
TZID:Europe/Brussels
X-LIC-LOCATION:Europe/Brussels
BEGIN:DAYLIGHT
DTSTART:20240331T030000
TZOFFSETFROM:+0100
TZOFFSETTO:+0200
TZNAME:CEST
END:DAYLIGHT
END:VTIMEZONE
END:VCALENDAR